Workbook

Sheet Turbo S Front
A1: RPM | B1: Nm | C1: PS | D1: Nm (Launch) | E1: PS (Launch)
A2: 0 | B2: 400 | C2: =(B2/1.356*A2)/5252/0.986 -> 0 | D2: 440 | E2: =(D2/1.356*A2)/5252/0.986 -> 0
A3: 1000 | B3: 400 | C3: =(B3/1.356*A3)/5252/0.986 -> 56.963763 | D3: 440 | E3: =(D3/1.356*A3)/5252/0.986 -> 62.660139
A4: 3250 | B4: 400 | C4: =(B4/1.356*A4)/5252/0.986 -> 185.13223 | D4: 440 | E4: =(D4/1.356*A4)/5252/0.986 -> 203.64545
A5: 3850 | B5: 400 | C5: =(B5/1.356*A5)/5252/0.986 -> 219.31049 | D5: 433 | E5: =(D5/1.356*A5)/5252/0.986 -> 237.4036
A6: 5000 | B6: 398 | C6: =(B6/1.356*A6)/5252/0.986 -> 283.39472 | D6: 398 | E6: =(D6/1.356*A6)/5252/0.986 -> 283.39472
A7: 5600 | B7: 362 | C7: =(B7/1.356*A7)/5252/0.986 -> 288.69235 | D7: 362 | E7: =(D7/1.356*A7)/5252/0.986 -> 288.69235
A8: 6000 | B8: 340 | C8: =(B8/1.356*A8)/5252/0.986 -> 290.51519 | D8: 340 | E8: =(D8/1.356*A8)/5252/0.986 -> 290.51519
A9: 6200 | B9: 327 | C9: =(B9/1.356*A9)/5252/0.986 -> 288.72083 | D9: 327 | E9: =(D9/1.356*A9)/5252/0.986 -> 288.72083
A10: 7000 | B10: 282 | C10: =(B10/1.356*A10)/5252/0.986 -> 281.11617 | D10: 282 | E10: =(D10/1.356*A10)/5252/0.986 -> 281.11617
A11: 8000 | B11: 238 | C11: =(B11/1.356*A11)/5252/0.986 -> 271.14751 | D11: 238 | E11: =(D11/1.356*A11)/5252/0.986 -> 271.14751
A12: 9000 | B12: 202 | C12: =(B12/1.356*A12)/5252/0.986 -> 258.9003 | D12: 202 | E12: =(D12/1.356*A12)/5252/0.986 -> 258.9003
A13: 10000 | B13: 175 | C13: =(B13/1.356*A13)/5252/0.986 -> 249.21646 | D13: 175 | E13: =(D13/1.356*A13)/5252/0.986 -> 249.21646
... A16: 16000 | B16: 90 | C16: =(B16/1.356*A16)/5252/0.986 -> 205.06955 | D16: 90 | E16: =(D16/1.356*A16)/5252/0.986 -> 205.06955

Sheet Turbo S Rear
A1: RPM | B1: Nm | C1: PS | D1: Nm (Launch) | E1: PS (Launch)
A2: 0 | B2: 550 | C2: =(B2/1.356*$A2)/5252/0.986 -> 0 | D2: 610 | E2: =(D2/1.356*$A2)/5252/0.986 -> 0
A3: 1000 | B3: 550 | C3: =(B3/1.356*$A3)/5252/0.986 -> 78.325174 | D3: 610 | E3: =(D3/1.356*$A3)/5252/0.986 -> 86.869738
A4: 3250 | B4: 550 | C4: =(B4/1.356*$A4)/5252/0.986 -> 254.55682 | D4: 610 | E4: =(D4/1.356*$A4)/5252/0.986 -> 282.32665
A5: 3850 | B5: 550 | C5: =(B5/1.356*$A5)/5252/0.986 -> 301.55192 | D5: 610 | E5: =(D5/1.356*$A5)/5252/0.986 -> 334.44849
A6: 5000 | B6: 550 | C6: =(B6/1.356*$A6)/5252/0.986 -> 391.62587 | D6: 610 | E6: =(D6/1.356*$A6)/5252/0.986 -> 434.34869
A7: 5600 | B7: 550 | C7: =(B7/1.356*$A7)/5252/0.986 -> 438.62097 | D7: 610 | E7: =(D7/1.356*$A7)/5252/0.986 -> 486.47053
A8: 6000 | B8: 550 | C8: =(B8/1.356*$A8)/5252/0.986 -> 469.95104 | D8: 600 | E8: =(D8/1.356*$A8)/5252/0.986 -> 512.67387
A9: 6200 | B9: 550 | C9: =(B9/1.356*$A9)/5252/0.986 -> 485.61608 | D9: 583 | E9: =(D9/1.356*$A9)/5252/0.986 -> 514.75304
A10: 7000 | B10: 528 | C10: =(B10/1.356*$A10)/5252/0.986 -> 526.34517 | D10: 528 | E10: =(D10/1.356*$A10)/5252/0.986 -> 526.34517
A11: 8000 | B11: 448 | C11: =(B11/1.356*$A11)/5252/0.986 -> 510.39531 | D11: 448 | E11: =(D11/1.356*$A11)/5252/0.986 -> 510.39531
A12: 9000 | B12: 390 | C12: =(B12/1.356*$A12)/5252/0.986 -> 499.85702 | D12: 390 | E12: =(D12/1.356*$A12)/5252/0.986 -> 499.85702
A13: 10000 | B13: 345 | C13: =(B13/1.356*$A13)/5252/0.986 -> 491.31245 | D13: 345 | E13: =(D13/1.356*$A13)/5252/0.986 -> 491.31245
... A16: 16000 | B16: 195 | C16: =(B16/1.356*$A16)/5252/0.986 -> 444.31735 | D16: 195 | E16: =(D16/1.356*$A16)/5252/0.986 -> 444.31735

Sheet Turbo S Total
A1: RPM | B1: Nm | C1: PS | D1: Nm (Launch) | E1: PS (Launch)
A2: ='Turbo S Front'!A2 -> 0 | B2: ='Turbo S Front'!B2 + 'Turbo S Rear'!B2 -> 950 | C2: ='Turbo S Front'!C2 + 'Turbo S Rear'!C2 -> 0 | D2: ='Turbo S Front'!D2 + 'Turbo S Rear'!D2 -> 1050 | E2: ='Turbo S Front'!E2 + 'Turbo S Rear'!E2 -> 0
A3: ='Turbo S Front'!A3 -> 1000 | B3: ='Turbo S Front'!B3 + 'Turbo S Rear'!B3 -> 950 | C3: ='Turbo S Front'!C3 + 'Turbo S Rear'!C3 -> 135.28894 | D3: ='Turbo S Front'!D3 + 'Turbo S Rear'!D3 -> 1050 | E3: ='Turbo S Front'!E3 + 'Turbo S Rear'!E3 -> 149.52988
A4: ='Turbo S Front'!A4 -> 3250 | B4: ='Turbo S Front'!B4 + 'Turbo S Rear'!B4 -> 950 | C4: ='Turbo S Front'!C4 + 'Turbo S Rear'!C4 -> 439.68904 | D4: ='Turbo S Front'!D4 + 'Turbo S Rear'!D4 -> 1050 | E4: ='Turbo S Front'!E4 + 'Turbo S Rear'!E4 -> 485.9721
A5: ='Turbo S Front'!A5 -> 3850 | B5: ='Turbo S Front'!B5 + 'Turbo S Rear'!B5 -> 950 | C5: ='Turbo S Front'!C5 + 'Turbo S Rear'!C5 -> 520.86241 | D5: ='Turbo S Front'!D5 + 'Turbo S Rear'!D5 -> 1043 | E5: ='Turbo S Front'!E5 + 'Turbo S Rear'!E5 -> 571.85209
A6: ='Turbo S Front'!A6 -> 5000 | B6: ='Turbo S Front'!B6 + 'Turbo S Rear'!B6 -> 948 | C6: ='Turbo S Front'!C6 + 'Turbo S Rear'!C6 -> 675.02059 | D6: ='Turbo S Front'!D6 + 'Turbo S Rear'!D6 -> 1008 | E6: ='Turbo S Front'!E6 + 'Turbo S Rear'!E6 -> 717.74341
A7: ='Turbo S Front'!A7 -> 5600 | B7: ='Turbo S Front'!B7 + 'Turbo S Rear'!B7 -> 912 | C7: ='Turbo S Front'!C7 + 'Turbo S Rear'!C7 -> 727.31332 | D7: ='Turbo S Front'!D7 + 'Turbo S Rear'!D7 -> 972 | E7: ='Turbo S Front'!E7 + 'Turbo S Rear'!E7 -> 775.16288
A8: ='Turbo S Front'!A8 -> 6000 | B8: ='Turbo S Front'!B8 + 'Turbo S Rear'!B8 -> 890 | C8: ='Turbo S Front'!C8 + 'Turbo S Rear'!C8 -> 760.46623 | D8: ='Turbo S Front'!D8 + 'Turbo S Rear'!D8 -> 940 | E8: ='Turbo S Front'!E8 + 'Turbo S Rear'!E8 -> 803.18906
A9: ='Turbo S Front'!A9 -> 6200 | B9: ='Turbo S Front'!B9 + 'Turbo S Rear'!B9 -> 877 | C9: ='Turbo S Front'!C9 + 'Turbo S Rear'!C9 -> 774.33691 | D9: ='Turbo S Front'!D9 + 'Turbo S Rear'!D9 -> 910 | E9: ='Turbo S Front'!E9 + 'Turbo S Rear'!E9 -> 803.47387
A10: ='Turbo S Front'!A10 -> 7000 | B10: ='Turbo S Front'!B10 + 'Turbo S Rear'!B10 -> 810 | C10: ='Turbo S Front'!C10 + 'Turbo S Rear'!C10 -> 807.46134 | D10: ='Turbo S Front'!D10 + 'Turbo S Rear'!D10 -> 810 | E10: ='Turbo S Front'!E10 + 'Turbo S Rear'!E10 -> 807.46134
A11: ='Turbo S Front'!A11 -> 8000 | B11: ='Turbo S Front'!B11 + 'Turbo S Rear'!B11 -> 686 | C11: ='Turbo S Front'!C11 + 'Turbo S Rear'!C11 -> 781.54283 | D11: ='Turbo S Front'!D11 + 'Turbo S Rear'!D11 -> 686 | E11: ='Turbo S Front'!E11 + 'Turbo S Rear'!E11 -> 781.54283
A12: ='Turbo S Front'!A12 -> 9000 | B12: ='Turbo S Front'!B12 + 'Turbo S Rear'!B12 -> 592 | C12: ='Turbo S Front'!C12 + 'Turbo S Rear'!C12 -> 758.75732 | D12: ='Turbo S Front'!D12 + 'Turbo S Rear'!D12 -> 592 | E12: ='Turbo S Front'!E12 + 'Turbo S Rear'!E12 -> 758.75732
A13: ='Turbo S Front'!A13 -> 10000 | B13: ='Turbo S Front'!B13 + 'Turbo S Rear'!B13 -> 520 | C13: ='Turbo S Front'!C13 + 'Turbo S Rear'!C13 -> 740.52892 | D13: ='Turbo S Front'!D13 + 'Turbo S Rear'!D13 -> 520 | E13: ='Turbo S Front'!E13 + 'Turbo S Rear'!E13 -> 740.52892
... A16: ='Turbo S Front'!A16 -> 16000 | B16: ='Turbo S Front'!B16 + 'Turbo S Rear'!B16 -> 285 | C16: ='Turbo S Front'!C16 + 'Turbo S Rear'!C16 -> 649.3869 | D16: ='Turbo S Front'!D16 + 'Turbo S Rear'!D16 -> 285 | E16: ='Turbo S Front'!E16 + 'Turbo S Rear'!E16 -> 649.3869

Sheet Turbo S 1st
A1: RPM rear | B1: RPM front | C1: Rear max | D1: Front Max | E1: Speed | F1: Torque Max | G1: Torque | H1: Power Max
A2: 0 | B2: =A2/1.94 -> 0 | C2: =IFERROR(FORECAST(A2, OFFSET('Turbo S Rear'!$A$1, MATCH(A2,'Turbo S Rear'!$A$2:$A$16), 3, 2, 1), OFFSET('Turbo S Rear'!$A$1, MATCH(A2,'Turbo S Rear'!$A$2:$A$16), 0, 2, 1)), OFFSET('Turbo S Rear'!$A$1, MATCH(A2,'Turbo S Rear'!$A$2:$A$16), 3, 1, 1)) -> 610 | D2: =IFERROR(FORECAST(B2, OFFSET('Turbo S Front'!$A$1, MATCH(B2,'Turbo S Front'!$A$2:$A$16), 3, 2, 1), OFFSET('Turbo S Front'!$A$1, MATCH(B2,'Turbo S Front'!$A$2:$A$16), 0, 2, 1)), OFFSET('Turbo S Front'!$A$1, MATCH(B2,'Turbo S Front'!$A$2:$A$16), 3, 1, 1)) -> 440 | E2: =$A2/119 -> 0 | F2: =C2+D2 -> 1050 | G2: 943.7 | H2: =($C2/1.356*$A2)/5252/0.986+($D2/1.356*$B2)/5252/0.986 -> 0
A3: 1000 | B3: =A3/1.94 -> 515.46392 | C3: =IFERROR(FORECAST(A3, OFFSET('Turbo S Rear'!$A$1, MATCH(A3,'Turbo S Rear'!$A$2:$A$16), 3, 2, 1), OFFSET('Turbo S Rear'!$A$1, MATCH(A3,'Turbo S Rear'!$A$2:$A$16), 0, 2, 1)), OFFSET('Turbo S Rear'!$A$1, MATCH(A3,'Turbo S Rear'!$A$2:$A$16), 3, 1, 1)) -> 610 | D3: =IFERROR(FORECAST(B3, OFFSET('Turbo S Front'!$A$1, MATCH(B3,'Turbo S Front'!$A$2:$A$16), 3, 2, 1), OFFSET('Turbo S Front'!$A$1, MATCH(B3,'Turbo S Front'!$A$2:$A$16), 0, 2, 1)), OFFSET('Turbo S Front'!$A$1, MATCH(B3,'Turbo S Front'!$A$2:$A$16), 3, 1, 1)) -> 440 | E3: =$A3/119 -> 8.4033613 | F3: =C3+D3 -> 1050 | G3: 943.7 | H3: =($C3/1.356*$A3)/5252/0.986+($D3/1.356*$B3)/5252/0.986 -> 119.16878
A4: 1500 | B4: =A4/1.94 -> 773.19588 | C4: =IFERROR(FORECAST(A4, OFFSET('Turbo S Rear'!$A$1, MATCH(A4,'Turbo S Rear'!$A$2:$A$16), 3, 2, 1), OFFSET('Turbo S Rear'!$A$1, MATCH(A4,'Turbo S Rear'!$A$2:$A$16), 0, 2, 1)), OFFSET('Turbo S Rear'!$A$1, MATCH(A4,'Turbo S Rear'!$A$2:$A$16), 3, 1, 1)) -> 610 | D4: =IFERROR(FORECAST(B4, OFFSET('Turbo S Front'!$A$1, MATCH(B4,'Turbo S Front'!$A$2:$A$16), 3, 2, 1), OFFSET('Turbo S Front'!$A$1, MATCH(B4,'Turbo S Front'!$A$2:$A$16), 0, 2, 1)), OFFSET('Turbo S Front'!$A$1, MATCH(B4,'Turbo S Front'!$A$2:$A$16), 3, 1, 1)) -> 440 | E4: =$A4/119 -> 12.605042 | F4: =C4+D4 -> 1050 | G4: 943.7 | H4: =($C4/1.356*$A4)/5252/0.986+($D4/1.356*$B4)/5252/0.986 -> 178.75317
A5: 2000 | B5: =A5/1.94 -> 1030.9278 | C5: =IFERROR(FORECAST(A5, OFFSET('Turbo S Rear'!$A$1, MATCH(A5,'Turbo S Rear'!$A$2:$A$16), 3, 2, 1), OFFSET('Turbo S Rear'!$A$1, MATCH(A5,'Turbo S Rear'!$A$2:$A$16), 0, 2, 1)), OFFSET('Turbo S Rear'!$A$1, MATCH(A5,'Turbo S Rear'!$A$2:$A$16), 3, 1, 1)) -> 610 | D5: =IFERROR(FORECAST(B5, OFFSET('Turbo S Front'!$A$1, MATCH(B5,'Turbo S Front'!$A$2:$A$16), 3, 2, 1), OFFSET('Turbo S Front'!$A$1, MATCH(B5,'Turbo S Front'!$A$2:$A$16), 0, 2, 1)), OFFSET('Turbo S Front'!$A$1, MATCH(B5,'Turbo S Front'!$A$2:$A$16), 3, 1, 1)) -> 440 | E5: =$A5/119 -> 16.806723 | F5: =C5+D5 -> 1050 | G5: 943.7 | H5: =($C5/1.356*$A5)/5252/0.986+($D5/1.356*$B5)/5252/0.986 -> 238.33756
A6: 2500 | B6: =A6/1.94 -> 1288.6598 | C6: =IFERROR(FORECAST(A6, OFFSET('Turbo S Rear'!$A$1, MATCH(A6,'Turbo S Rear'!$A$2:$A$16), 3, 2, 1), OFFSET('Turbo S Rear'!$A$1, MATCH(A6,'Turbo S Rear'!$A$2:$A$16), 0, 2, 1)), OFFSET('Turbo S Rear'!$A$1, MATCH(A6,'Turbo S Rear'!$A$2:$A$16), 3, 1, 1)) -> 610 | D6: =IFERROR(FORECAST(B6, OFFSET('Turbo S Front'!$A$1, MATCH(B6,'Turbo S Front'!$A$2:$A$16), 3, 2, 1), OFFSET('Turbo S Front'!$A$1, MATCH(B6,'Turbo S Front'!$A$2:$A$16), 0, 2, 1)), OFFSET('Turbo S Front'!$A$1, MATCH(B6,'Turbo S Front'!$A$2:$A$16), 3, 1, 1)) -> 440 | E6: =$A6/119 -> 21.008403 | F6: =C6+D6 -> 1050 | G6: 943.7 | H6: =($C6/1.356*$A6)/5252/0.986+($D6/1.356*$B6)/5252/0.986 -> 297.92195
A7: 3000 | B7: =A7/1.94 -> 1546.3918 | C7: =IFERROR(FORECAST(A7, OFFSET('Turbo S Rear'!$A$1, MATCH(A7,'Turbo S Rear'!$A$2:$A$16), 3, 2, 1), OFFSET('Turbo S Rear'!$A$1, MATCH(A7,'Turbo S Rear'!$A$2:$A$16), 0, 2, 1)), OFFSET('Turbo S Rear'!$A$1, MATCH(A7,'Turbo S Rear'!$A$2:$A$16), 3, 1, 1)) -> 610 | D7: =IFERROR(FORECAST(B7, OFFSET('Turbo S Front'!$A$1, MATCH(B7,'Turbo S Front'!$A$2:$A$16), 3, 2, 1), OFFSET('Turbo S Front'!$A$1, MATCH(B7,'Turbo S Front'!$A$2:$A$16), 0, 2, 1)), OFFSET('Turbo S Front'!$A$1, MATCH(B7,'Turbo S Front'!$A$2:$A$16), 3, 1, 1)) -> 440 | E7: =$A7/119 -> 25.210084 | F7: =C7+D7 -> 1050 | G7: 943.7 | H7: =($C7/1.356*$A7)/5252/0.986+($D7/1.356*$B7)/5252/0.986 -> 357.50634
A8: 3500 | B8: =A8/1.94 -> 1804.1237 | C8: =IFERROR(FORECAST(A8, OFFSET('Turbo S Rear'!$A$1, MATCH(A8,'Turbo S Rear'!$A$2:$A$16), 3, 2, 1), OFFSET('Turbo S Rear'!$A$1, MATCH(A8,'Turbo S Rear'!$A$2:$A$16), 0, 2, 1)), OFFSET('Turbo S Rear'!$A$1, MATCH(A8,'Turbo S Rear'!$A$2:$A$16), 3, 1, 1)) -> 610 | D8: =IFERROR(FORECAST(B8, OFFSET('Turbo S Front'!$A$1, MATCH(B8,'Turbo S Front'!$A$2:$A$16), 3, 2, 1), OFFSET('Turbo S Front'!$A$1, MATCH(B8,'Turbo S Front'!$A$2:$A$16), 0, 2, 1)), OFFSET('Turbo S Front'!$A$1, MATCH(B8,'Turbo S Front'!$A$2:$A$16), 3, 1, 1)) -> 440 | E8: =$A8/119 -> 29.411765 | F8: =C8+D8 -> 1050 | G8: 943.7 | H8: =($C8/1.356*$A8)/5252/0.986+($D8/1.356*$B8)/5252/0.986 -> 417.09073
A9: 4000 | B9: =A9/1.94 -> 2061.8557 | C9: =IFERROR(FORECAST(A9, OFFSET('Turbo S Rear'!$A$1, MATCH(A9,'Turbo S Rear'!$A$2:$A$16), 3, 2, 1), OFFSET('Turbo S Rear'!$A$1, MATCH(A9,'Turbo S Rear'!$A$2:$A$16), 0, 2, 1)), OFFSET('Turbo S Rear'!$A$1, MATCH(A9,'Turbo S Rear'!$A$2:$A$16), 3, 1, 1)) -> 610 | D9: =IFERROR(FORECAST(B9, OFFSET('Turbo S Front'!$A$1, MATCH(B9,'Turbo S Front'!$A$2:$A$16), 3, 2, 1), OFFSET('Turbo S Front'!$A$1, MATCH(B9,'Turbo S Front'!$A$2:$A$16), 0, 2, 1)), OFFSET('Turbo S Front'!$A$1, MATCH(B9,'Turbo S Front'!$A$2:$A$16), 3, 1, 1)) -> 440 | E9: =$A9/119 -> 33.613445 | F9: =C9+D9 -> 1050 | G9: 943.7 | H9: =($C9/1.356*$A9)/5252/0.986+($D9/1.356*$B9)/5252/0.986 -> 476.67512
A10: 4500 | B10: =A10/1.94 -> 2319.5876 | C10: =IFERROR(FORECAST(A10, OFFSET('Turbo S Rear'!$A$1, MATCH(A10,'Turbo S Rear'!$A$2:$A$16), 3, 2, 1), OFFSET('Turbo S Rear'!$A$1, MATCH(A10,'Turbo S Rear'!$A$2:$A$16), 0, 2, 1)), OFFSET('Turbo S Rear'!$A$1, MATCH(A10,'Turbo S Rear'!$A$2:$A$16), 3, 1, 1)) -> 610 | D10: =IFERROR(FORECAST(B10, OFFSET('Turbo S Front'!$A$1, MATCH(B10,'Turbo S Front'!$A$2:$A$16), 3, 2, 1), OFFSET('Turbo S Front'!$A$1, MATCH(B10,'Turbo S Front'!$A$2:$A$16), 0, 2, 1)), OFFSET('Turbo S Front'!$A$1, MATCH(B10,'Turbo S Front'!$A$2:$A$16), 3, 1, 1)) -> 440 | E10: =$A10/119 -> 37.815126 | F10: =C10+D10 -> 1050 | G10: 943.7 | H10: =($C10/1.356*$A10)/5252/0.986+($D10/1.356*$B10)/5252/0.986 -> 536.25951
A11: 5000 | B11: =A11/1.94 -> 2577.3196 | C11: =IFERROR(FORECAST(A11, OFFSET('Turbo S Rear'!$A$1, MATCH(A11,'Turbo S Rear'!$A$2:$A$16), 3, 2, 1), OFFSET('Turbo S Rear'!$A$1, MATCH(A11,'Turbo S Rear'!$A$2:$A$16), 0, 2, 1)), OFFSET('Turbo S Rear'!$A$1, MATCH(A11,'Turbo S Rear'!$A$2:$A$16), 3, 1, 1)) -> 610 | D11: =IFERROR(FORECAST(B11, OFFSET('Turbo S Front'!$A$1, MATCH(B11,'Turbo S Front'!$A$2:$A$16), 3, 2, 1), OFFSET('Turbo S Front'!$A$1, MATCH(B11,'Turbo S Front'!$A$2:$A$16), 0, 2, 1)), OFFSET('Turbo S Front'!$A$1, MATCH(B11,'Turbo S Front'!$A$2:$A$16), 3, 1, 1)) -> 440 | E11: =$A11/119 -> 42.016807 | F11: =C11+D11 -> 1050 | G11: 882.4 | H11: =($C11/1.356*$A11)/5252/0.986+($D11/1.356*$B11)/5252/0.986 -> 595.8439
A12: 5500 | B12: =A12/1.94 -> 2835.0515 | C12: =IFERROR(FORECAST(A12, OFFSET('Turbo S Rear'!$A$1, MATCH(A12,'Turbo S Rear'!$A$2:$A$16), 3, 2, 1), OFFSET('Turbo S Rear'!$A$1, MATCH(A12,'Turbo S Rear'!$A$2:$A$16), 0, 2, 1)), OFFSET('Turbo S Rear'!$A$1, MATCH(A12,'Turbo S Rear'!$A$2:$A$16), 3, 1, 1)) -> 610 | D12: =IFERROR(FORECAST(B12, OFFSET('Turbo S Front'!$A$1, MATCH(B12,'Turbo S Front'!$A$2:$A$16), 3, 2, 1), OFFSET('Turbo S Front'!$A$1, MATCH(B12,'Turbo S Front'!$A$2:$A$16), 0, 2, 1)), OFFSET('Turbo S Front'!$A$1, MATCH(B12,'Turbo S Front'!$A$2:$A$16), 3, 1, 1)) -> 440 | E12: =$A12/119 -> 46.218487 | F12: =C12+D12 -> 1050 | G12: 800.7 | H12: =($C12/1.356*$A12)/5252/0.986+($D12/1.356*$B12)/5252/0.986 -> 655.42828
A13: 6000 | B13: =A13/1.94 -> 3092.7835 | C13: =IFERROR(FORECAST(A13, OFFSET('Turbo S Rear'!$A$1, MATCH(A13,'Turbo S Rear'!$A$2:$A$16), 3, 2, 1), OFFSET('Turbo S Rear'!$A$1, MATCH(A13,'Turbo S Rear'!$A$2:$A$16), 0, 2, 1)), OFFSET('Turbo S Rear'!$A$1, MATCH(A13,'Turbo S Rear'!$A$2:$A$16), 3, 1, 1)) -> 600 | D13: =IFERROR(FORECAST(B13, OFFSET('Turbo S Front'!$A$1, MATCH(B13,'Turbo S Front'!$A$2:$A$16), 3, 2, 1), OFFSET('Turbo S Front'!$A$1, MATCH(B13,'Turbo S Front'!$A$2:$A$16), 0, 2, 1)), OFFSET('Turbo S Front'!$A$1, MATCH(B13,'Turbo S Front'!$A$2:$A$16), 3, 1, 1)) -> 440 | E13: =$A13/119 -> 50.420168 | F13: =C13+D13 -> 1040 | G13: 732.9 | H13: =($C13/1.356*$A13)/5252/0.986+($D13/1.356*$B13)/5252/0.986 -> 706.46811
... A32: 16000 | B32: =A32/1.94 -> 8247.4227 | C32: =IFERROR(FORECAST(A32, OFFSET('Turbo S Rear'!$A$1, MATCH(A32,'Turbo S Rear'!$A$2:$A$16), 3, 2, 1), OFFSET('Turbo S Rear'!$A$1, MATCH(A32,'Turbo S Rear'!$A$2:$A$16), 0, 2, 1)), OFFSET('Turbo S Rear'!$A$1, MATCH(A32,'Turbo S Rear'!$A$2:$A$16), 3, 1, 1)) -> 195 | D32: =IFERROR(FORECAST(B32, OFFSET('Turbo S Front'!$A$1, MATCH(B32,'Turbo S Front'!$A$2:$A$16), 3, 2, 1), OFFSET('Turbo S Front'!$A$1, MATCH(B32,'Turbo S Front'!$A$2:$A$16), 0, 2, 1)), OFFSET('Turbo S Front'!$A$1, MATCH(B32,'Turbo S Front'!$A$2:$A$16), 3, 1, 1)) -> 229.09278 | E32: =$A32/119 -> 134.45378 | F32: =C32+D32 -> 424.09278 | G32: 275.4 | H32: =($C32/1.356*$A32)/5252/0.986+($D32/1.356*$B32)/5252/0.986 -> 713.38925

Sheet Turbo Front
A1: RPM | B1: Nm | C1: PS | D1: Nm (Launch) | E1: PS (Launch)
A2: 0 | B2: 300 | C2: =(B2/1.356*A2)/5252/0.986 -> 0 | D2: 300 | E2: =(D2/1.356*A2)/5252/0.986 -> 0
A3: 1000 | B3: 300 | C3: =(B3/1.356*A3)/5252/0.986 -> 42.722822 | D3: 300 | E3: =(D3/1.356*A3)/5252/0.986 -> 42.722822
A4: 3250 | B4: 300 | C4: =(B4/1.356*A4)/5252/0.986 -> 138.84917 | D4: 300 | E4: =(D4/1.356*A4)/5252/0.986 -> 138.84917
A5: 3850 | B5: 300 | C5: =(B5/1.356*A5)/5252/0.986 -> 164.48287 | D5: 300 | E5: =(D5/1.356*A5)/5252/0.986 -> 164.48287
A6: 5000 | B6: 300 | C6: =(B6/1.356*A6)/5252/0.986 -> 213.61411 | D6: 300 | E6: =(D6/1.356*A6)/5252/0.986 -> 213.61411
A7: 5600 | B7: 300 | C7: =(B7/1.356*A7)/5252/0.986 -> 239.2478 | D7: 300 | E7: =(D7/1.356*A7)/5252/0.986 -> 239.2478
A8: 6000 | B8: 300 | C8: =(B8/1.356*A8)/5252/0.986 -> 256.33693 | D8: 300 | E8: =(D8/1.356*A8)/5252/0.986 -> 256.33693
A9: 6200 | B9: 295 | C9: =(B9/1.356*A9)/5252/0.986 -> 260.46681 | D9: 295 | E9: =(D9/1.356*A9)/5252/0.986 -> 260.46681
A10: 7000 | B10: 282 | C10: =(B10/1.356*A10)/5252/0.986 -> 281.11617 | D10: 282 | E10: =(D10/1.356*A10)/5252/0.986 -> 281.11617
A11: 8000 | B11: 238 | C11: =(B11/1.356*A11)/5252/0.986 -> 271.14751 | D11: 238 | E11: =(D11/1.356*A11)/5252/0.986 -> 271.14751
A12: 9000 | B12: 202 | C12: =(B12/1.356*A12)/5252/0.986 -> 258.9003 | D12: 202 | E12: =(D12/1.356*A12)/5252/0.986 -> 258.9003
A13: 10000 | B13: 175 | C13: =(B13/1.356*A13)/5252/0.986 -> 249.21646 | D13: 175 | E13: =(D13/1.356*A13)/5252/0.986 -> 249.21646
... A16: 16000 | B16: 90 | C16: =(B16/1.356*A16)/5252/0.986 -> 205.06955 | D16: 90 | E16: =(D16/1.356*A16)/5252/0.986 -> 205.06955

Sheet Turbo Rear
A1: RPM | B1: Nm | C1: PS | D1: Nm (Launch) | E1: PS (Launch)
A2: 0 | B2: 550 | C2: =(B2/1.356*$A2)/5252/0.986 -> 0 | D2: 610 | E2: =(D2/1.356*$A2)/5252/0.986 -> 0
A3: 1000 | B3: 550 | C3: =(B3/1.356*$A3)/5252/0.986 -> 78.325174 | D3: 610 | E3: =(D3/1.356*$A3)/5252/0.986 -> 86.869738
A4: 3250 | B4: 550 | C4: =(B4/1.356*$A4)/5252/0.986 -> 254.55682 | D4: 610 | E4: =(D4/1.356*$A4)/5252/0.986 -> 282.32665
A5: 3850 | B5: 550 | C5: =(B5/1.356*$A5)/5252/0.986 -> 301.55192 | D5: 610 | E5: =(D5/1.356*$A5)/5252/0.986 -> 334.44849
A6: 5000 | B6: 550 | C6: =(B6/1.356*$A6)/5252/0.986 -> 391.62587 | D6: 610 | E6: =(D6/1.356*$A6)/5252/0.986 -> 434.34869
A7: 5600 | B7: 550 | C7: =(B7/1.356*$A7)/5252/0.986 -> 438.62097 | D7: 610 | E7: =(D7/1.356*$A7)/5252/0.986 -> 486.47053
A8: 6000 | B8: 550 | C8: =(B8/1.356*$A8)/5252/0.986 -> 469.95104 | D8: 600 | E8: =(D8/1.356*$A8)/5252/0.986 -> 512.67387
A9: 6200 | B9: 550 | C9: =(B9/1.356*$A9)/5252/0.986 -> 485.61608 | D9: 583 | E9: =(D9/1.356*$A9)/5252/0.986 -> 514.75304
A10: 7000 | B10: 528 | C10: =(B10/1.356*$A10)/5252/0.986 -> 526.34517 | D10: 528 | E10: =(D10/1.356*$A10)/5252/0.986 -> 526.34517
A11: 8000 | B11: 448 | C11: =(B11/1.356*$A11)/5252/0.986 -> 510.39531 | D11: 448 | E11: =(D11/1.356*$A11)/5252/0.986 -> 510.39531
A12: 9000 | B12: 390 | C12: =(B12/1.356*$A12)/5252/0.986 -> 499.85702 | D12: 390 | E12: =(D12/1.356*$A12)/5252/0.986 -> 499.85702
A13: 10000 | B13: 345 | C13: =(B13/1.356*$A13)/5252/0.986 -> 491.31245 | D13: 345 | E13: =(D13/1.356*$A13)/5252/0.986 -> 491.31245
... A16: 16000 | B16: 195 | C16: =(B16/1.356*$A16)/5252/0.986 -> 444.31735 | D16: 195 | E16: =(D16/1.356*$A16)/5252/0.986 -> 444.31735

Sheet Turbo Total
A1: RPM | B1: Nm | C1: PS | D1: Nm (Launch) | E1: PS (Launch)
A2: ='Turbo Front'!A2 -> 0 | B2: ='Turbo Front'!B2 + 'Turbo Rear'!B2 -> 850 | C2: ='Turbo Front'!C2 + 'Turbo Rear'!C2 -> 0 | D2: ='Turbo Front'!D2 + 'Turbo Rear'!D2 -> 910 | E2: ='Turbo Front'!E2 + 'Turbo Rear'!E2 -> 0
A3: ='Turbo Front'!A3 -> 1000 | B3: ='Turbo Front'!B3 + 'Turbo Rear'!B3 -> 850 | C3: ='Turbo Front'!C3 + 'Turbo Rear'!C3 -> 121.048 | D3: ='Turbo Front'!D3 + 'Turbo Rear'!D3 -> 910 | E3: ='Turbo Front'!E3 + 'Turbo Rear'!E3 -> 129.59256
A4: ='Turbo Front'!A4 -> 3250 | B4: ='Turbo Front'!B4 + 'Turbo Rear'!B4 -> 850 | C4: ='Turbo Front'!C4 + 'Turbo Rear'!C4 -> 393.40599 | D4: ='Turbo Front'!D4 + 'Turbo Rear'!D4 -> 910 | E4: ='Turbo Front'!E4 + 'Turbo Rear'!E4 -> 421.17582
A5: ='Turbo Front'!A5 -> 3850 | B5: ='Turbo Front'!B5 + 'Turbo Rear'!B5 -> 850 | C5: ='Turbo Front'!C5 + 'Turbo Rear'!C5 -> 466.03478 | D5: ='Turbo Front'!D5 + 'Turbo Rear'!D5 -> 910 | E5: ='Turbo Front'!E5 + 'Turbo Rear'!E5 -> 498.93136
A6: ='Turbo Front'!A6 -> 5000 | B6: ='Turbo Front'!B6 + 'Turbo Rear'!B6 -> 850 | C6: ='Turbo Front'!C6 + 'Turbo Rear'!C6 -> 605.23998 | D6: ='Turbo Front'!D6 + 'Turbo Rear'!D6 -> 910 | E6: ='Turbo Front'!E6 + 'Turbo Rear'!E6 -> 647.9628
A7: ='Turbo Front'!A7 -> 5600 | B7: ='Turbo Front'!B7 + 'Turbo Rear'!B7 -> 850 | C7: ='Turbo Front'!C7 + 'Turbo Rear'!C7 -> 677.86878 | D7: ='Turbo Front'!D7 + 'Turbo Rear'!D7 -> 910 | E7: ='Turbo Front'!E7 + 'Turbo Rear'!E7 -> 725.71834
A8: ='Turbo Front'!A8 -> 6000 | B8: ='Turbo Front'!B8 + 'Turbo Rear'!B8 -> 850 | C8: ='Turbo Front'!C8 + 'Turbo Rear'!C8 -> 726.28798 | D8: ='Turbo Front'!D8 + 'Turbo Rear'!D8 -> 900 | E8: ='Turbo Front'!E8 + 'Turbo Rear'!E8 -> 769.0108
A9: ='Turbo Front'!A9 -> 6200 | B9: ='Turbo Front'!B9 + 'Turbo Rear'!B9 -> 845 | C9: ='Turbo Front'!C9 + 'Turbo Rear'!C9 -> 746.08288 | D9: ='Turbo Front'!D9 + 'Turbo Rear'!D9 -> 878 | E9: ='Turbo Front'!E9 + 'Turbo Rear'!E9 -> 775.21985
A10: ='Turbo Front'!A10 -> 7000 | B10: ='Turbo Front'!B10 + 'Turbo Rear'!B10 -> 810 | C10: ='Turbo Front'!C10 + 'Turbo Rear'!C10 -> 807.46134 | D10: ='Turbo Front'!D10 + 'Turbo Rear'!D10 -> 810 | E10: ='Turbo Front'!E10 + 'Turbo Rear'!E10 -> 807.46134
A11: ='Turbo Front'!A11 -> 8000 | B11: ='Turbo Front'!B11 + 'Turbo Rear'!B11 -> 686 | C11: ='Turbo Front'!C11 + 'Turbo Rear'!C11 -> 781.54283 | D11: ='Turbo Front'!D11 + 'Turbo Rear'!D11 -> 686 | E11: ='Turbo Front'!E11 + 'Turbo Rear'!E11 -> 781.54283
A12: ='Turbo Front'!A12 -> 9000 | B12: ='Turbo Front'!B12 + 'Turbo Rear'!B12 -> 592 | C12: ='Turbo Front'!C12 + 'Turbo Rear'!C12 -> 758.75732 | D12: ='Turbo Front'!D12 + 'Turbo Rear'!D12 -> 592 | E12: ='Turbo Front'!E12 + 'Turbo Rear'!E12 -> 758.75732
A13: ='Turbo Front'!A13 -> 10000 | B13: ='Turbo Front'!B13 + 'Turbo Rear'!B13 -> 520 | C13: ='Turbo Front'!C13 + 'Turbo Rear'!C13 -> 740.52892 | D13: ='Turbo Front'!D13 + 'Turbo Rear'!D13 -> 520 | E13: ='Turbo Front'!E13 + 'Turbo Rear'!E13 -> 740.52892
... A16: ='Turbo Front'!A16 -> 16000 | B16: ='Turbo Front'!B16 + 'Turbo Rear'!B16 -> 285 | C16: ='Turbo Front'!C16 + 'Turbo Rear'!C16 -> 649.3869 | D16: ='Turbo Front'!D16 + 'Turbo Rear'!D16 -> 285 | E16: ='Turbo Front'!E16 + 'Turbo Rear'!E16 -> 649.3869

Sheet Turbo 1st
A1: RPM rear | B1: RPM front | C1: Rear max | D1: Front Max | E1: Speed | F1: Torque Max | G1: Torque | H1: Power Max
A2: 0 | B2: =A2/1.94 -> 0 | C2: =IFERROR(FORECAST(A2, OFFSET('Turbo Rear'!$A$1, MATCH(A2,'Turbo Rear'!$A$2:$A$16), 3, 2, 1), OFFSET('Turbo Rear'!$A$1, MATCH(A2,'Turbo Rear'!$A$2:$A$16), 0, 2, 1)), OFFSET('Turbo Rear'!$A$1, MATCH(A2,'Turbo Rear'!$A$2:$A$16), 3, 1, 1)) -> 610 | D2: =IFERROR(FORECAST(B2, OFFSET('Turbo Front'!$A$1, MATCH(B2,'Turbo Front'!$A$2:$A$16), 3, 2, 1), OFFSET('Turbo Front'!$A$1, MATCH(B2,'Turbo Front'!$A$2:$A$16), 0, 2, 1)), OFFSET('Turbo Front'!$A$1, MATCH(B2,'Turbo Front'!$A$2:$A$16), 3, 1, 1)) -> 300 | E2: =$A2/119 -> 0 | F2: =C2+D2 -> 910 | G2: 845.3 | H2: =($C2/1.356*$A2)/5252/0.986+($D2/1.356*$B2)/5252/0.986 -> 0
A3: 1000 | B3: =A3/1.94 -> 515.46392 | C3: =IFERROR(FORECAST(A3, OFFSET('Turbo Rear'!$A$1, MATCH(A3,'Turbo Rear'!$A$2:$A$16), 3, 2, 1), OFFSET('Turbo Rear'!$A$1, MATCH(A3,'Turbo Rear'!$A$2:$A$16), 0, 2, 1)), OFFSET('Turbo Rear'!$A$1, MATCH(A3,'Turbo Rear'!$A$2:$A$16), 3, 1, 1)) -> 610 | D3: =IFERROR(FORECAST(B3, OFFSET('Turbo Front'!$A$1, MATCH(B3,'Turbo Front'!$A$2:$A$16), 3, 2, 1), OFFSET('Turbo Front'!$A$1, MATCH(B3,'Turbo Front'!$A$2:$A$16), 0, 2, 1)), OFFSET('Turbo Front'!$A$1, MATCH(B3,'Turbo Front'!$A$2:$A$16), 3, 1, 1)) -> 300 | E3: =$A3/119 -> 8.4033613 | F3: =C3+D3 -> 910 | G3: 845.3 | H3: =($C3/1.356*$A3)/5252/0.986+($D3/1.356*$B3)/5252/0.986 -> 108.89181
A4: 1500 | B4: =A4/1.94 -> 773.19588 | C4: =IFERROR(FORECAST(A4, OFFSET('Turbo Rear'!$A$1, MATCH(A4,'Turbo Rear'!$A$2:$A$16), 3, 2, 1), OFFSET('Turbo Rear'!$A$1, MATCH(A4,'Turbo Rear'!$A$2:$A$16), 0, 2, 1)), OFFSET('Turbo Rear'!$A$1, MATCH(A4,'Turbo Rear'!$A$2:$A$16), 3, 1, 1)) -> 610 | D4: =IFERROR(FORECAST(B4, OFFSET('Turbo Front'!$A$1, MATCH(B4,'Turbo Front'!$A$2:$A$16), 3, 2, 1), OFFSET('Turbo Front'!$A$1, MATCH(B4,'Turbo Front'!$A$2:$A$16), 0, 2, 1)), OFFSET('Turbo Front'!$A$1, MATCH(B4,'Turbo Front'!$A$2:$A$16), 3, 1, 1)) -> 300 | E4: =$A4/119 -> 12.605042 | F4: =C4+D4 -> 910 | G4: 845.3 | H4: =($C4/1.356*$A4)/5252/0.986+($D4/1.356*$B4)/5252/0.986 -> 163.33772
A5: 2000 | B5: =A5/1.94 -> 1030.9278 | C5: =IFERROR(FORECAST(A5, OFFSET('Turbo Rear'!$A$1, MATCH(A5,'Turbo Rear'!$A$2:$A$16), 3, 2, 1), OFFSET('Turbo Rear'!$A$1, MATCH(A5,'Turbo Rear'!$A$2:$A$16), 0, 2, 1)), OFFSET('Turbo Rear'!$A$1, MATCH(A5,'Turbo Rear'!$A$2:$A$16), 3, 1, 1)) -> 610 | D5: =IFERROR(FORECAST(B5, OFFSET('Turbo Front'!$A$1, MATCH(B5,'Turbo Front'!$A$2:$A$16), 3, 2, 1), OFFSET('Turbo Front'!$A$1, MATCH(B5,'Turbo Front'!$A$2:$A$16), 0, 2, 1)), OFFSET('Turbo Front'!$A$1, MATCH(B5,'Turbo Front'!$A$2:$A$16), 3, 1, 1)) -> 300 | E5: =$A5/119 -> 16.806723 | F5: =C5+D5 -> 910 | G5: 845.3 | H5: =($C5/1.356*$A5)/5252/0.986+($D5/1.356*$B5)/5252/0.986 -> 217.78362
A6: 2500 | B6: =A6/1.94 -> 1288.6598 | C6: =IFERROR(FORECAST(A6, OFFSET('Turbo Rear'!$A$1, MATCH(A6,'Turbo Rear'!$A$2:$A$16), 3, 2, 1), OFFSET('Turbo Rear'!$A$1, MATCH(A6,'Turbo Rear'!$A$2:$A$16), 0, 2, 1)), OFFSET('Turbo Rear'!$A$1, MATCH(A6,'Turbo Rear'!$A$2:$A$16), 3, 1, 1)) -> 610 | D6: =IFERROR(FORECAST(B6, OFFSET('Turbo Front'!$A$1, MATCH(B6,'Turbo Front'!$A$2:$A$16), 3, 2, 1), OFFSET('Turbo Front'!$A$1, MATCH(B6,'Turbo Front'!$A$2:$A$16), 0, 2, 1)), OFFSET('Turbo Front'!$A$1, MATCH(B6,'Turbo Front'!$A$2:$A$16), 3, 1, 1)) -> 300 | E6: =$A6/119 -> 21.008403 | F6: =C6+D6 -> 910 | G6: 845.3 | H6: =($C6/1.356*$A6)/5252/0.986+($D6/1.356*$B6)/5252/0.986 -> 272.22953
A7: 3000 | B7: =A7/1.94 -> 1546.3918 | C7: =IFERROR(FORECAST(A7, OFFSET('Turbo Rear'!$A$1, MATCH(A7,'Turbo Rear'!$A$2:$A$16), 3, 2, 1), OFFSET('Turbo Rear'!$A$1, MATCH(A7,'Turbo Rear'!$A$2:$A$16), 0, 2, 1)), OFFSET('Turbo Rear'!$A$1, MATCH(A7,'Turbo Rear'!$A$2:$A$16), 3, 1, 1)) -> 610 | D7: =IFERROR(FORECAST(B7, OFFSET('Turbo Front'!$A$1, MATCH(B7,'Turbo Front'!$A$2:$A$16), 3, 2, 1), OFFSET('Turbo Front'!$A$1, MATCH(B7,'Turbo Front'!$A$2:$A$16), 0, 2, 1)), OFFSET('Turbo Front'!$A$1, MATCH(B7,'Turbo Front'!$A$2:$A$16), 3, 1, 1)) -> 300 | E7: =$A7/119 -> 25.210084 | F7: =C7+D7 -> 910 | G7: 845.3 | H7: =($C7/1.356*$A7)/5252/0.986+($D7/1.356*$B7)/5252/0.986 -> 326.67543
A8: 3500 | B8: =A8/1.94 -> 1804.1237 | C8: =IFERROR(FORECAST(A8, OFFSET('Turbo Rear'!$A$1, MATCH(A8,'Turbo Rear'!$A$2:$A$16), 3, 2, 1), OFFSET('Turbo Rear'!$A$1, MATCH(A8,'Turbo Rear'!$A$2:$A$16), 0, 2, 1)), OFFSET('Turbo Rear'!$A$1, MATCH(A8,'Turbo Rear'!$A$2:$A$16), 3, 1, 1)) -> 610 | D8: =IFERROR(FORECAST(B8, OFFSET('Turbo Front'!$A$1, MATCH(B8,'Turbo Front'!$A$2:$A$16), 3, 2, 1), OFFSET('Turbo Front'!$A$1, MATCH(B8,'Turbo Front'!$A$2:$A$16), 0, 2, 1)), OFFSET('Turbo Front'!$A$1, MATCH(B8,'Turbo Front'!$A$2:$A$16), 3, 1, 1)) -> 300 | E8: =$A8/119 -> 29.411765 | F8: =C8+D8 -> 910 | G8: 845.3 | H8: =($C8/1.356*$A8)/5252/0.986+($D8/1.356*$B8)/5252/0.986 -> 381.12134
A9: 4000 | B9: =A9/1.94 -> 2061.8557 | C9: =IFERROR(FORECAST(A9, OFFSET('Turbo Rear'!$A$1, MATCH(A9,'Turbo Rear'!$A$2:$A$16), 3, 2, 1), OFFSET('Turbo Rear'!$A$1, MATCH(A9,'Turbo Rear'!$A$2:$A$16), 0, 2, 1)), OFFSET('Turbo Rear'!$A$1, MATCH(A9,'Turbo Rear'!$A$2:$A$16), 3, 1, 1)) -> 610 | D9: =IFERROR(FORECAST(B9, OFFSET('Turbo Front'!$A$1, MATCH(B9,'Turbo Front'!$A$2:$A$16), 3, 2, 1), OFFSET('Turbo Front'!$A$1, MATCH(B9,'Turbo Front'!$A$2:$A$16), 0, 2, 1)), OFFSET('Turbo Front'!$A$1, MATCH(B9,'Turbo Front'!$A$2:$A$16), 3, 1, 1)) -> 300 | E9: =$A9/119 -> 33.613445 | F9: =C9+D9 -> 910 | G9: 845.3 | H9: =($C9/1.356*$A9)/5252/0.986+($D9/1.356*$B9)/5252/0.986 -> 435.56725
A10: 4500 | B10: =A10/1.94 -> 2319.5876 | C10: =IFERROR(FORECAST(A10, OFFSET('Turbo Rear'!$A$1, MATCH(A10,'Turbo Rear'!$A$2:$A$16), 3, 2, 1), OFFSET('Turbo Rear'!$A$1, MATCH(A10,'Turbo Rear'!$A$2:$A$16), 0, 2, 1)), OFFSET('Turbo Rear'!$A$1, MATCH(A10,'Turbo Rear'!$A$2:$A$16), 3, 1, 1)) -> 610 | D10: =IFERROR(FORECAST(B10, OFFSET('Turbo Front'!$A$1, MATCH(B10,'Turbo Front'!$A$2:$A$16), 3, 2, 1), OFFSET('Turbo Front'!$A$1, MATCH(B10,'Turbo Front'!$A$2:$A$16), 0, 2, 1)), OFFSET('Turbo Front'!$A$1, MATCH(B10,'Turbo Front'!$A$2:$A$16), 3, 1, 1)) -> 300 | E10: =$A10/119 -> 37.815126 | F10: =C10+D10 -> 910 | G10: 845.3 | H10: =($C10/1.356*$A10)/5252/0.986+($D10/1.356*$B10)/5252/0.986 -> 490.01315
A11: 5000 | B11: =A11/1.94 -> 2577.3196 | C11: =IFERROR(FORECAST(A11, OFFSET('Turbo Rear'!$A$1, MATCH(A11,'Turbo Rear'!$A$2:$A$16), 3, 2, 1), OFFSET('Turbo Rear'!$A$1, MATCH(A11,'Turbo Rear'!$A$2:$A$16), 0, 2, 1)), OFFSET('Turbo Rear'!$A$1, MATCH(A11,'Turbo Rear'!$A$2:$A$16), 3, 1, 1)) -> 610 | D11: =IFERROR(FORECAST(B11, OFFSET('Turbo Front'!$A$1, MATCH(B11,'Turbo Front'!$A$2:$A$16), 3, 2, 1), OFFSET('Turbo Front'!$A$1, MATCH(B11,'Turbo Front'!$A$2:$A$16), 0, 2, 1)), OFFSET('Turbo Front'!$A$1, MATCH(B11,'Turbo Front'!$A$2:$A$16), 3, 1, 1)) -> 300 | E11: =$A11/119 -> 42.016807 | F11: =C11+D11 -> 910 | G11: 845.3 | H11: =($C11/1.356*$A11)/5252/0.986+($D11/1.356*$B11)/5252/0.986 -> 544.45906
A12: 5500 | B12: =A12/1.94 -> 2835.0515 | C12: =IFERROR(FORECAST(A12, OFFSET('Turbo Rear'!$A$1, MATCH(A12,'Turbo Rear'!$A$2:$A$16), 3, 2, 1), OFFSET('Turbo Rear'!$A$1, MATCH(A12,'Turbo Rear'!$A$2:$A$16), 0, 2, 1)), OFFSET('Turbo Rear'!$A$1, MATCH(A12,'Turbo Rear'!$A$2:$A$16), 3, 1, 1)) -> 610 | D12: =IFERROR(FORECAST(B12, OFFSET('Turbo Front'!$A$1, MATCH(B12,'Turbo Front'!$A$2:$A$16), 3, 2, 1), OFFSET('Turbo Front'!$A$1, MATCH(B12,'Turbo Front'!$A$2:$A$16), 0, 2, 1)), OFFSET('Turbo Front'!$A$1, MATCH(B12,'Turbo Front'!$A$2:$A$16), 3, 1, 1)) -> 300 | E12: =$A12/119 -> 46.218487 | F12: =C12+D12 -> 910 | G12: 800.7 | H12: =($C12/1.356*$A12)/5252/0.986+($D12/1.356*$B12)/5252/0.986 -> 598.90496
A13: 6000 | B13: =A13/1.94 -> 3092.7835 | C13: =IFERROR(FORECAST(A13, OFFSET('Turbo Rear'!$A$1, MATCH(A13,'Turbo Rear'!$A$2:$A$16), 3, 2, 1), OFFSET('Turbo Rear'!$A$1, MATCH(A13,'Turbo Rear'!$A$2:$A$16), 0, 2, 1)), OFFSET('Turbo Rear'!$A$1, MATCH(A13,'Turbo Rear'!$A$2:$A$16), 3, 1, 1)) -> 600 | D13: =IFERROR(FORECAST(B13, OFFSET('Turbo Front'!$A$1, MATCH(B13,'Turbo Front'!$A$2:$A$16), 3, 2, 1), OFFSET('Turbo Front'!$A$1, MATCH(B13,'Turbo Front'!$A$2:$A$16), 0, 2, 1)), OFFSET('Turbo Front'!$A$1, MATCH(B13,'Turbo Front'!$A$2:$A$16), 3, 1, 1)) -> 300 | E13: =$A13/119 -> 50.420168 | F13: =C13+D13 -> 900 | G13: 732.9 | H13: =($C13/1.356*$A13)/5252/0.986+($D13/1.356*$B13)/5252/0.986 -> 644.8063
... A32: 16000 | B32: =A32/1.94 -> 8247.4227 | C32: =IFERROR(FORECAST(A32, OFFSET('Turbo Rear'!$A$1, MATCH(A32,'Turbo Rear'!$A$2:$A$16), 3, 2, 1), OFFSET('Turbo Rear'!$A$1, MATCH(A32,'Turbo Rear'!$A$2:$A$16), 0, 2, 1)), OFFSET('Turbo Rear'!$A$1, MATCH(A32,'Turbo Rear'!$A$2:$A$16), 3, 1, 1)) -> 195 | D32: =IFERROR(FORECAST(B32, OFFSET('Turbo Front'!$A$1, MATCH(B32,'Turbo Front'!$A$2:$A$16), 3, 2, 1), OFFSET('Turbo Front'!$A$1, MATCH(B32,'Turbo Front'!$A$2:$A$16), 0, 2, 1)), OFFSET('Turbo Front'!$A$1, MATCH(B32,'Turbo Front'!$A$2:$A$16), 3, 1, 1)) -> 229.09278 | E32: =$A32/119 -> 134.45378 | F32: =C32+D32 -> 424.09278 | G32: 275.4 | H32: =($C32/1.356*$A32)/5252/0.986+($D32/1.356*$B32)/5252/0.986 -> 713.38925

Sheet GTS 1st
A1: RPM rear | B1: RPM front | C1: Rear max | D1: Front Max | E1: Speed | F1: Torque Max | G1: Torque | H1: Power Max
A2: 0 | B2: =A2/1.94 -> 0 | C2: =IFERROR(FORECAST(A2, OFFSET('Turbo Rear'!$A$1, MATCH(A2,'Turbo Rear'!$A$2:$A$16), 3, 2, 1), OFFSET('Turbo Rear'!$A$1, MATCH(A2,'Turbo Rear'!$A$2:$A$16), 0, 2, 1)), OFFSET('Turbo Rear'!$A$1, MATCH(A2,'Turbo Rear'!$A$2:$A$16), 3, 1, 1)) -> 610 | D2: =IFERROR(FORECAST(B2, OFFSET('Turbo Front'!$A$1, MATCH(B2,'Turbo Front'!$A$2:$A$16), 3, 2, 1), OFFSET('Turbo Front'!$A$1, MATCH(B2,'Turbo Front'!$A$2:$A$16), 0, 2, 1)), OFFSET('Turbo Front'!$A$1, MATCH(B2,'Turbo Front'!$A$2:$A$16), 3, 1, 1)) -> 300 | E2: =$A2/119 -> 0 | F2: =C2+D2 -> 910 | G2: 845.3 | H2: =($C2/1.356*$A2)/5252/0.986+($D2/1.356*$B2)/5252/0.986 -> 0
A3: 1000 | B3: =A3/1.94 -> 515.46392 | C3: =IFERROR(FORECAST(A3, OFFSET('Turbo Rear'!$A$1, MATCH(A3,'Turbo Rear'!$A$2:$A$16), 3, 2, 1), OFFSET('Turbo Rear'!$A$1, MATCH(A3,'Turbo Rear'!$A$2:$A$16), 0, 2, 1)), OFFSET('Turbo Rear'!$A$1, MATCH(A3,'Turbo Rear'!$A$2:$A$16), 3, 1, 1)) -> 610 | D3: =IFERROR(FORECAST(B3, OFFSET('Turbo Front'!$A$1, MATCH(B3,'Turbo Front'!$A$2:$A$16), 3, 2, 1), OFFSET('Turbo Front'!$A$1, MATCH(B3,'Turbo Front'!$A$2:$A$16), 0, 2, 1)), OFFSET('Turbo Front'!$A$1, MATCH(B3,'Turbo Front'!$A$2:$A$16), 3, 1, 1)) -> 300 | E3: =$A3/119 -> 8.4033613 | F3: =C3+D3 -> 910 | G3: 845.3 | H3: =($C3/1.356*$A3)/5252/0.986+($D3/1.356*$B3)/5252/0.986 -> 108.89181
A4: 1500 | B4: =A4/1.94 -> 773.19588 | C4: =IFERROR(FORECAST(A4, OFFSET('Turbo Rear'!$A$1, MATCH(A4,'Turbo Rear'!$A$2:$A$16), 3, 2, 1), OFFSET('Turbo Rear'!$A$1, MATCH(A4,'Turbo Rear'!$A$2:$A$16), 0, 2, 1)), OFFSET('Turbo Rear'!$A$1, MATCH(A4,'Turbo Rear'!$A$2:$A$16), 3, 1, 1)) -> 610 | D4: =IFERROR(FORECAST(B4, OFFSET('Turbo Front'!$A$1, MATCH(B4,'Turbo Front'!$A$2:$A$16), 3, 2, 1), OFFSET('Turbo Front'!$A$1, MATCH(B4,'Turbo Front'!$A$2:$A$16), 0, 2, 1)), OFFSET('Turbo Front'!$A$1, MATCH(B4,'Turbo Front'!$A$2:$A$16), 3, 1, 1)) -> 300 | E4: =$A4/119 -> 12.605042 | F4: =C4+D4 -> 910 | G4: 845.3 | H4: =($C4/1.356*$A4)/5252/0.986+($D4/1.356*$B4)/5252/0.986 -> 163.33772
A5: 2000 | B5: =A5/1.94 -> 1030.9278 | C5: =IFERROR(FORECAST(A5, OFFSET('Turbo Rear'!$A$1, MATCH(A5,'Turbo Rear'!$A$2:$A$16), 3, 2, 1), OFFSET('Turbo Rear'!$A$1, MATCH(A5,'Turbo Rear'!$A$2:$A$16), 0, 2, 1)), OFFSET('Turbo Rear'!$A$1, MATCH(A5,'Turbo Rear'!$A$2:$A$16), 3, 1, 1)) -> 610 | D5: =IFERROR(FORECAST(B5, OFFSET('Turbo Front'!$A$1, MATCH(B5,'Turbo Front'!$A$2:$A$16), 3, 2, 1), OFFSET('Turbo Front'!$A$1, MATCH(B5,'Turbo Front'!$A$2:$A$16), 0, 2, 1)), OFFSET('Turbo Front'!$A$1, MATCH(B5,'Turbo Front'!$A$2:$A$16), 3, 1, 1)) -> 300 | E5: =$A5/119 -> 16.806723 | F5: =C5+D5 -> 910 | G5: 845.3 | H5: =($C5/1.356*$A5)/5252/0.986+($D5/1.356*$B5)/5252/0.986 -> 217.78362
A6: 2500 | B6: =A6/1.94 -> 1288.6598 | C6: =IFERROR(FORECAST(A6, OFFSET('Turbo Rear'!$A$1, MATCH(A6,'Turbo Rear'!$A$2:$A$16), 3, 2, 1), OFFSET('Turbo Rear'!$A$1, MATCH(A6,'Turbo Rear'!$A$2:$A$16), 0, 2, 1)), OFFSET('Turbo Rear'!$A$1, MATCH(A6,'Turbo Rear'!$A$2:$A$16), 3, 1, 1)) -> 610 | D6: =IFERROR(FORECAST(B6, OFFSET('Turbo Front'!$A$1, MATCH(B6,'Turbo Front'!$A$2:$A$16), 3, 2, 1), OFFSET('Turbo Front'!$A$1, MATCH(B6,'Turbo Front'!$A$2:$A$16), 0, 2, 1)), OFFSET('Turbo Front'!$A$1, MATCH(B6,'Turbo Front'!$A$2:$A$16), 3, 1, 1)) -> 300 | E6: =$A6/119 -> 21.008403 | F6: =C6+D6 -> 910 | G6: 845.3 | H6: =($C6/1.356*$A6)/5252/0.986+($D6/1.356*$B6)/5252/0.986 -> 272.22953
A7: 3000 | B7: =A7/1.94 -> 1546.3918 | C7: =IFERROR(FORECAST(A7, OFFSET('Turbo Rear'!$A$1, MATCH(A7,'Turbo Rear'!$A$2:$A$16), 3, 2, 1), OFFSET('Turbo Rear'!$A$1, MATCH(A7,'Turbo Rear'!$A$2:$A$16), 0, 2, 1)), OFFSET('Turbo Rear'!$A$1, MATCH(A7,'Turbo Rear'!$A$2:$A$16), 3, 1, 1)) -> 610 | D7: =IFERROR(FORECAST(B7, OFFSET('Turbo Front'!$A$1, MATCH(B7,'Turbo Front'!$A$2:$A$16), 3, 2, 1), OFFSET('Turbo Front'!$A$1, MATCH(B7,'Turbo Front'!$A$2:$A$16), 0, 2, 1)), OFFSET('Turbo Front'!$A$1, MATCH(B7,'Turbo Front'!$A$2:$A$16), 3, 1, 1)) -> 300 | E7: =$A7/119 -> 25.210084 | F7: =C7+D7 -> 910 | G7: 845.3 | H7: =($C7/1.356*$A7)/5252/0.986+($D7/1.356*$B7)/5252/0.986 -> 326.67543
A8: 3500 | B8: =A8/1.94 -> 1804.1237 | C8: =IFERROR(FORECAST(A8, OFFSET('Turbo Rear'!$A$1, MATCH(A8,'Turbo Rear'!$A$2:$A$16), 3, 2, 1), OFFSET('Turbo Rear'!$A$1, MATCH(A8,'Turbo Rear'!$A$2:$A$16), 0, 2, 1)), OFFSET('Turbo Rear'!$A$1, MATCH(A8,'Turbo Rear'!$A$2:$A$16), 3, 1, 1)) -> 610 | D8: =IFERROR(FORECAST(B8, OFFSET('Turbo Front'!$A$1, MATCH(B8,'Turbo Front'!$A$2:$A$16), 3, 2, 1), OFFSET('Turbo Front'!$A$1, MATCH(B8,'Turbo Front'!$A$2:$A$16), 0, 2, 1)), OFFSET('Turbo Front'!$A$1, MATCH(B8,'Turbo Front'!$A$2:$A$16), 3, 1, 1)) -> 300 | E8: =$A8/119 -> 29.411765 | F8: =C8+D8 -> 910 | G8: 845.3 | H8: =($C8/1.356*$A8)/5252/0.986+($D8/1.356*$B8)/5252/0.986 -> 381.12134
A9: 4000 | B9: =A9/1.94 -> 2061.8557 | C9: =IFERROR(FORECAST(A9, OFFSET('Turbo Rear'!$A$1, MATCH(A9,'Turbo Rear'!$A$2:$A$16), 3, 2, 1), OFFSET('Turbo Rear'!$A$1, MATCH(A9,'Turbo Rear'!$A$2:$A$16), 0, 2, 1)), OFFSET('Turbo Rear'!$A$1, MATCH(A9,'Turbo Rear'!$A$2:$A$16), 3, 1, 1)) -> 610 | D9: =IFERROR(FORECAST(B9, OFFSET('Turbo Front'!$A$1, MATCH(B9,'Turbo Front'!$A$2:$A$16), 3, 2, 1), OFFSET('Turbo Front'!$A$1, MATCH(B9,'Turbo Front'!$A$2:$A$16), 0, 2, 1)), OFFSET('Turbo Front'!$A$1, MATCH(B9,'Turbo Front'!$A$2:$A$16), 3, 1, 1)) -> 300 | E9: =$A9/119 -> 33.613445 | F9: =C9+D9 -> 910 | G9: 845.3 | H9: =($C9/1.356*$A9)/5252/0.986+($D9/1.356*$B9)/5252/0.986 -> 435.56725
A10: 4500 | B10: =A10/1.94 -> 2319.5876 | C10: =IFERROR(FORECAST(A10, OFFSET('Turbo Rear'!$A$1, MATCH(A10,'Turbo Rear'!$A$2:$A$16), 3, 2, 1), OFFSET('Turbo Rear'!$A$1, MATCH(A10,'Turbo Rear'!$A$2:$A$16), 0, 2, 1)), OFFSET('Turbo Rear'!$A$1, MATCH(A10,'Turbo Rear'!$A$2:$A$16), 3, 1, 1)) -> 610 | D10: =IFERROR(FORECAST(B10, OFFSET('Turbo Front'!$A$1, MATCH(B10,'Turbo Front'!$A$2:$A$16), 3, 2, 1), OFFSET('Turbo Front'!$A$1, MATCH(B10,'Turbo Front'!$A$2:$A$16), 0, 2, 1)), OFFSET('Turbo Front'!$A$1, MATCH(B10,'Turbo Front'!$A$2:$A$16), 3, 1, 1)) -> 300 | E10: =$A10/119 -> 37.815126 | F10: =C10+D10 -> 910 | G10: 811.8 | H10: =($C10/1.356*$A10)/5252/0.986+($D10/1.356*$B10)/5252/0.986 -> 490.01315
A11: 5000 | B11: =A11/1.94 -> 2577.3196 | C11: =IFERROR(FORECAST(A11, OFFSET('Turbo Rear'!$A$1, MATCH(A11,'Turbo Rear'!$A$2:$A$16), 3, 2, 1), OFFSET('Turbo Rear'!$A$1, MATCH(A11,'Turbo Rear'!$A$2:$A$16), 0, 2, 1)), OFFSET('Turbo Rear'!$A$1, MATCH(A11,'Turbo Rear'!$A$2:$A$16), 3, 1, 1)) -> 610 | D11: =IFERROR(FORECAST(B11, OFFSET('Turbo Front'!$A$1, MATCH(B11,'Turbo Front'!$A$2:$A$16), 3, 2, 1), OFFSET('Turbo Front'!$A$1, MATCH(B11,'Turbo Front'!$A$2:$A$16), 0, 2, 1)), OFFSET('Turbo Front'!$A$1, MATCH(B11,'Turbo Front'!$A$2:$A$16), 3, 1, 1)) -> 300 | E11: =$A11/119 -> 42.016807 | F11: =C11+D11 -> 910 | G11: 729 | H11: =($C11/1.356*$A11)/5252/0.986+($D11/1.356*$B11)/5252/0.986 -> 544.45906
A12: 5500 | B12: =A12/1.94 -> 2835.0515 | C12: =IFERROR(FORECAST(A12, OFFSET('Turbo Rear'!$A$1, MATCH(A12,'Turbo Rear'!$A$2:$A$16), 3, 2, 1), OFFSET('Turbo Rear'!$A$1, MATCH(A12,'Turbo Rear'!$A$2:$A$16), 0, 2, 1)), OFFSET('Turbo Rear'!$A$1, MATCH(A12,'Turbo Rear'!$A$2:$A$16), 3, 1, 1)) -> 610 | D12: =IFERROR(FORECAST(B12, OFFSET('Turbo Front'!$A$1, MATCH(B12,'Turbo Front'!$A$2:$A$16), 3, 2, 1), OFFSET('Turbo Front'!$A$1, MATCH(B12,'Turbo Front'!$A$2:$A$16), 0, 2, 1)), OFFSET('Turbo Front'!$A$1, MATCH(B12,'Turbo Front'!$A$2:$A$16), 3, 1, 1)) -> 300 | E12: =$A12/119 -> 46.218487 | F12: =C12+D12 -> 910 | G12: 661.5 | H12: =($C12/1.356*$A12)/5252/0.986+($D12/1.356*$B12)/5252/0.986 -> 598.90496
A13: 6000 | B13: =A13/1.94 -> 3092.7835 | C13: =IFERROR(FORECAST(A13, OFFSET('Turbo Rear'!$A$1, MATCH(A13,'Turbo Rear'!$A$2:$A$16), 3, 2, 1), OFFSET('Turbo Rear'!$A$1, MATCH(A13,'Turbo Rear'!$A$2:$A$16), 0, 2, 1)), OFFSET('Turbo Rear'!$A$1, MATCH(A13,'Turbo Rear'!$A$2:$A$16), 3, 1, 1)) -> 600 | D13: =IFERROR(FORECAST(B13, OFFSET('Turbo Front'!$A$1, MATCH(B13,'Turbo Front'!$A$2:$A$16), 3, 2, 1), OFFSET('Turbo Front'!$A$1, MATCH(B13,'Turbo Front'!$A$2:$A$16), 0, 2, 1)), OFFSET('Turbo Front'!$A$1, MATCH(B13,'Turbo Front'!$A$2:$A$16), 3, 1, 1)) -> 300 | E13: =$A13/119 -> 50.420168 | F13: =C13+D13 -> 900 | G13: 605.4 | H13: =($C13/1.356*$A13)/5252/0.986+($D13/1.356*$B13)/5252/0.986 -> 644.8063
... A32: 16000 | B32: =A32/1.94 -> 8247.4227 | C32: =IFERROR(FORECAST(A32, OFFSET('Turbo Rear'!$A$1, MATCH(A32,'Turbo Rear'!$A$2:$A$16), 3, 2, 1), OFFSET('Turbo Rear'!$A$1, MATCH(A32,'Turbo Rear'!$A$2:$A$16), 0, 2, 1)), OFFSET('Turbo Rear'!$A$1, MATCH(A32,'Turbo Rear'!$A$2:$A$16), 3, 1, 1)) -> 195 | D32: =IFERROR(FORECAST(B32, OFFSET('Turbo Front'!$A$1, MATCH(B32,'Turbo Front'!$A$2:$A$16), 3, 2, 1), OFFSET('Turbo Front'!$A$1, MATCH(B32,'Turbo Front'!$A$2:$A$16), 0, 2, 1)), OFFSET('Turbo Front'!$A$1, MATCH(B32,'Turbo Front'!$A$2:$A$16), 3, 1, 1)) -> 229.09278 | E32: =$A32/119 -> 134.45378 | F32: =C32+D32 -> 424.09278 | G32: 227.5 | H32: =($C32/1.356*$A32)/5252/0.986+($D32/1.356*$B32)/5252/0.986 -> 713.38925

Sheet RS etron GT 1st
A1: RPM rear | B1: RPM front | C1: Rear max | D1: Front Max | E1: Speed | F1: Torque Max | G1: Torque | H1: Power Max
A2: 0 | B2: =A2/1.94 -> 0 | C2: =IFERROR(FORECAST(A2, OFFSET('Turbo Rear'!$A$1, MATCH(A2,'Turbo Rear'!$A$2:$A$16), 3, 2, 1), OFFSET('Turbo Rear'!$A$1, MATCH(A2,'Turbo Rear'!$A$2:$A$16), 0, 2, 1)), OFFSET('Turbo Rear'!$A$1, MATCH(A2,'Turbo Rear'!$A$2:$A$16), 3, 1, 1)) -> 610 | D2: =IFERROR(FORECAST(B2, OFFSET('Turbo Front'!$A$1, MATCH(B2,'Turbo Front'!$A$2:$A$16), 3, 2, 1), OFFSET('Turbo Front'!$A$1, MATCH(B2,'Turbo Front'!$A$2:$A$16), 0, 2, 1)), OFFSET('Turbo Front'!$A$1, MATCH(B2,'Turbo Front'!$A$2:$A$16), 3, 1, 1)) -> 300 | E2: =$A2/119 -> 0 | F2: =C2+D2 -> 910 | G2: 845.3 | H2: =($C2/1.356*$A2)/5252/0.986+($D2/1.356*$B2)/5252/0.986 -> 0
A3: 1000 | B3: =A3/1.94 -> 515.46392 | C3: =IFERROR(FORECAST(A3, OFFSET('Turbo Rear'!$A$1, MATCH(A3,'Turbo Rear'!$A$2:$A$16), 3, 2, 1), OFFSET('Turbo Rear'!$A$1, MATCH(A3,'Turbo Rear'!$A$2:$A$16), 0, 2, 1)), OFFSET('Turbo Rear'!$A$1, MATCH(A3,'Turbo Rear'!$A$2:$A$16), 3, 1, 1)) -> 610 | D3: =IFERROR(FORECAST(B3, OFFSET('Turbo Front'!$A$1, MATCH(B3,'Turbo Front'!$A$2:$A$16), 3, 2, 1), OFFSET('Turbo Front'!$A$1, MATCH(B3,'Turbo Front'!$A$2:$A$16), 0, 2, 1)), OFFSET('Turbo Front'!$A$1, MATCH(B3,'Turbo Front'!$A$2:$A$16), 3, 1, 1)) -> 300 | E3: =$A3/119 -> 8.4033613 | F3: =C3+D3 -> 910 | G3: 845.3 | H3: =($C3/1.356*$A3)/5252/0.986+($D3/1.356*$B3)/5252/0.986 -> 108.89181
A4: 1500 | B4: =A4/1.94 -> 773.19588 | C4: =IFERROR(FORECAST(A4, OFFSET('Turbo Rear'!$A$1, MATCH(A4,'Turbo Rear'!$A$2:$A$16), 3, 2, 1), OFFSET('Turbo Rear'!$A$1, MATCH(A4,'Turbo Rear'!$A$2:$A$16), 0, 2, 1)), OFFSET('Turbo Rear'!$A$1, MATCH(A4,'Turbo Rear'!$A$2:$A$16), 3, 1, 1)) -> 610 | D4: =IFERROR(FORECAST(B4, OFFSET('Turbo Front'!$A$1, MATCH(B4,'Turbo Front'!$A$2:$A$16), 3, 2, 1), OFFSET('Turbo Front'!$A$1, MATCH(B4,'Turbo Front'!$A$2:$A$16), 0, 2, 1)), OFFSET('Turbo Front'!$A$1, MATCH(B4,'Turbo Front'!$A$2:$A$16), 3, 1, 1)) -> 300 | E4: =$A4/119 -> 12.605042 | F4: =C4+D4 -> 910 | G4: 845.3 | H4: =($C4/1.356*$A4)/5252/0.986+($D4/1.356*$B4)/5252/0.986 -> 163.33772
A5: 2000 | B5: =A5/1.94 -> 1030.9278 | C5: =IFERROR(FORECAST(A5, OFFSET('Turbo Rear'!$A$1, MATCH(A5,'Turbo Rear'!$A$2:$A$16), 3, 2, 1), OFFSET('Turbo Rear'!$A$1, MATCH(A5,'Turbo Rear'!$A$2:$A$16), 0, 2, 1)), OFFSET('Turbo Rear'!$A$1, MATCH(A5,'Turbo Rear'!$A$2:$A$16), 3, 1, 1)) -> 610 | D5: =IFERROR(FORECAST(B5, OFFSET('Turbo Front'!$A$1, MATCH(B5,'Turbo Front'!$A$2:$A$16), 3, 2, 1), OFFSET('Turbo Front'!$A$1, MATCH(B5,'Turbo Front'!$A$2:$A$16), 0, 2, 1)), OFFSET('Turbo Front'!$A$1, MATCH(B5,'Turbo Front'!$A$2:$A$16), 3, 1, 1)) -> 300 | E5: =$A5/119 -> 16.806723 | F5: =C5+D5 -> 910 | G5: 845.3 | H5: =($C5/1.356*$A5)/5252/0.986+($D5/1.356*$B5)/5252/0.986 -> 217.78362
A6: 2500 | B6: =A6/1.94 -> 1288.6598 | C6: =IFERROR(FORECAST(A6, OFFSET('Turbo Rear'!$A$1, MATCH(A6,'Turbo Rear'!$A$2:$A$16), 3, 2, 1), OFFSET('Turbo Rear'!$A$1, MATCH(A6,'Turbo Rear'!$A$2:$A$16), 0, 2, 1)), OFFSET('Turbo Rear'!$A$1, MATCH(A6,'Turbo Rear'!$A$2:$A$16), 3, 1, 1)) -> 610 | D6: =IFERROR(FORECAST(B6, OFFSET('Turbo Front'!$A$1, MATCH(B6,'Turbo Front'!$A$2:$A$16), 3, 2, 1), OFFSET('Turbo Front'!$A$1, MATCH(B6,'Turbo Front'!$A$2:$A$16), 0, 2, 1)), OFFSET('Turbo Front'!$A$1, MATCH(B6,'Turbo Front'!$A$2:$A$16), 3, 1, 1)) -> 300 | E6: =$A6/119 -> 21.008403 | F6: =C6+D6 -> 910 | G6: 845.3 | H6: =($C6/1.356*$A6)/5252/0.986+($D6/1.356*$B6)/5252/0.986 -> 272.22953
A7: 3000 | B7: =A7/1.94 -> 1546.3918 | C7: =IFERROR(FORECAST(A7, OFFSET('Turbo Rear'!$A$1, MATCH(A7,'Turbo Rear'!$A$2:$A$16), 3, 2, 1), OFFSET('Turbo Rear'!$A$1, MATCH(A7,'Turbo Rear'!$A$2:$A$16), 0, 2, 1)), OFFSET('Turbo Rear'!$A$1, MATCH(A7,'Turbo Rear'!$A$2:$A$16), 3, 1, 1)) -> 610 | D7: =IFERROR(FORECAST(B7, OFFSET('Turbo Front'!$A$1, MATCH(B7,'Turbo Front'!$A$2:$A$16), 3, 2, 1), OFFSET('Turbo Front'!$A$1, MATCH(B7,'Turbo Front'!$A$2:$A$16), 0, 2, 1)), OFFSET('Turbo Front'!$A$1, MATCH(B7,'Turbo Front'!$A$2:$A$16), 3, 1, 1)) -> 300 | E7: =$A7/119 -> 25.210084 | F7: =C7+D7 -> 910 | G7: 845.3 | H7: =($C7/1.356*$A7)/5252/0.986+($D7/1.356*$B7)/5252/0.986 -> 326.67543
A8: 3500 | B8: =A8/1.94 -> 1804.1237 | C8: =IFERROR(FORECAST(A8, OFFSET('Turbo Rear'!$A$1, MATCH(A8,'Turbo Rear'!$A$2:$A$16), 3, 2, 1), OFFSET('Turbo Rear'!$A$1, MATCH(A8,'Turbo Rear'!$A$2:$A$16), 0, 2, 1)), OFFSET('Turbo Rear'!$A$1, MATCH(A8,'Turbo Rear'!$A$2:$A$16), 3, 1, 1)) -> 610 | D8: =IFERROR(FORECAST(B8, OFFSET('Turbo Front'!$A$1, MATCH(B8,'Turbo Front'!$A$2:$A$16), 3, 2, 1), OFFSET('Turbo Front'!$A$1, MATCH(B8,'Turbo Front'!$A$2:$A$16), 0, 2, 1)), OFFSET('Turbo Front'!$A$1, MATCH(B8,'Turbo Front'!$A$2:$A$16), 3, 1, 1)) -> 300 | E8: =$A8/119 -> 29.411765 | F8: =C8+D8 -> 910 | G8: 845.3 | H8: =($C8/1.356*$A8)/5252/0.986+($D8/1.356*$B8)/5252/0.986 -> 381.12134
A9: 4000 | B9: =A9/1.94 -> 2061.8557 | C9: =IFERROR(FORECAST(A9, OFFSET('Turbo Rear'!$A$1, MATCH(A9,'Turbo Rear'!$A$2:$A$16), 3, 2, 1), OFFSET('Turbo Rear'!$A$1, MATCH(A9,'Turbo Rear'!$A$2:$A$16), 0, 2, 1)), OFFSET('Turbo Rear'!$A$1, MATCH(A9,'Turbo Rear'!$A$2:$A$16), 3, 1, 1)) -> 610 | D9: =IFERROR(FORECAST(B9, OFFSET('Turbo Front'!$A$1, MATCH(B9,'Turbo Front'!$A$2:$A$16), 3, 2, 1), OFFSET('Turbo Front'!$A$1, MATCH(B9,'Turbo Front'!$A$2:$A$16), 0, 2, 1)), OFFSET('Turbo Front'!$A$1, MATCH(B9,'Turbo Front'!$A$2:$A$16), 3, 1, 1)) -> 300 | E9: =$A9/119 -> 33.613445 | F9: =C9+D9 -> 910 | G9: 845.3 | H9: =($C9/1.356*$A9)/5252/0.986+($D9/1.356*$B9)/5252/0.986 -> 435.56725
A10: 4500 | B10: =A10/1.94 -> 2319.5876 | C10: =IFERROR(FORECAST(A10, OFFSET('Turbo Rear'!$A$1, MATCH(A10,'Turbo Rear'!$A$2:$A$16), 3, 2, 1), OFFSET('Turbo Rear'!$A$1, MATCH(A10,'Turbo Rear'!$A$2:$A$16), 0, 2, 1)), OFFSET('Turbo Rear'!$A$1, MATCH(A10,'Turbo Rear'!$A$2:$A$16), 3, 1, 1)) -> 610 | D10: =IFERROR(FORECAST(B10, OFFSET('Turbo Front'!$A$1, MATCH(B10,'Turbo Front'!$A$2:$A$16), 3, 2, 1), OFFSET('Turbo Front'!$A$1, MATCH(B10,'Turbo Front'!$A$2:$A$16), 0, 2, 1)), OFFSET('Turbo Front'!$A$1, MATCH(B10,'Turbo Front'!$A$2:$A$16), 3, 1, 1)) -> 300 | E10: =$A10/119 -> 37.815126 | F10: =C10+D10 -> 910 | G10: 845.3 | H10: =($C10/1.356*$A10)/5252/0.986+($D10/1.356*$B10)/5252/0.986 -> 490.01315
A11: 5000 | B11: =A11/1.94 -> 2577.3196 | C11: =IFERROR(FORECAST(A11, OFFSET('Turbo Rear'!$A$1, MATCH(A11,'Turbo Rear'!$A$2:$A$16), 3, 2, 1), OFFSET('Turbo Rear'!$A$1, MATCH(A11,'Turbo Rear'!$A$2:$A$16), 0, 2, 1)), OFFSET('Turbo Rear'!$A$1, MATCH(A11,'Turbo Rear'!$A$2:$A$16), 3, 1, 1)) -> 610 | D11: =IFERROR(FORECAST(B11, OFFSET('Turbo Front'!$A$1, MATCH(B11,'Turbo Front'!$A$2:$A$16), 3, 2, 1), OFFSET('Turbo Front'!$A$1, MATCH(B11,'Turbo Front'!$A$2:$A$16), 0, 2, 1)), OFFSET('Turbo Front'!$A$1, MATCH(B11,'Turbo Front'!$A$2:$A$16), 3, 1, 1)) -> 300 | E11: =$A11/119 -> 42.016807 | F11: =C11+D11 -> 910 | G11: 844.1 | H11: =($C11/1.356*$A11)/5252/0.986+($D11/1.356*$B11)/5252/0.986 -> 544.45906
A12: 5500 | B12: =A12/1.94 -> 2835.0515 | C12: =IFERROR(FORECAST(A12, OFFSET('Turbo Rear'!$A$1, MATCH(A12,'Turbo Rear'!$A$2:$A$16), 3, 2, 1), OFFSET('Turbo Rear'!$A$1, MATCH(A12,'Turbo Rear'!$A$2:$A$16), 0, 2, 1)), OFFSET('Turbo Rear'!$A$1, MATCH(A12,'Turbo Rear'!$A$2:$A$16), 3, 1, 1)) -> 610 | D12: =IFERROR(FORECAST(B12, OFFSET('Turbo Front'!$A$1, MATCH(B12,'Turbo Front'!$A$2:$A$16), 3, 2, 1), OFFSET('Turbo Front'!$A$1, MATCH(B12,'Turbo Front'!$A$2:$A$16), 0, 2, 1)), OFFSET('Turbo Front'!$A$1, MATCH(B12,'Turbo Front'!$A$2:$A$16), 3, 1, 1)) -> 300 | E12: =$A12/119 -> 46.218487 | F12: =C12+D12 -> 910 | G12: 765.9 | H12: =($C12/1.356*$A12)/5252/0.986+($D12/1.356*$B12)/5252/0.986 -> 598.90496
A13: 6000 | B13: =A13/1.94 -> 3092.7835 | C13: =IFERROR(FORECAST(A13, OFFSET('Turbo Rear'!$A$1, MATCH(A13,'Turbo Rear'!$A$2:$A$16), 3, 2, 1), OFFSET('Turbo Rear'!$A$1, MATCH(A13,'Turbo Rear'!$A$2:$A$16), 0, 2, 1)), OFFSET('Turbo Rear'!$A$1, MATCH(A13,'Turbo Rear'!$A$2:$A$16), 3, 1, 1)) -> 600 | D13: =IFERROR(FORECAST(B13, OFFSET('Turbo Front'!$A$1, MATCH(B13,'Turbo Front'!$A$2:$A$16), 3, 2, 1), OFFSET('Turbo Front'!$A$1, MATCH(B13,'Turbo Front'!$A$2:$A$16), 0, 2, 1)), OFFSET('Turbo Front'!$A$1, MATCH(B13,'Turbo Front'!$A$2:$A$16), 3, 1, 1)) -> 300 | E13: =$A13/119 -> 50.420168 | F13: =C13+D13 -> 900 | G13: 701 | H13: =($C13/1.356*$A13)/5252/0.986+($D13/1.356*$B13)/5252/0.986 -> 644.8063
... A32: 16000 | B32: =A32/1.94 -> 8247.4227 | C32: =IFERROR(FORECAST(A32, OFFSET('Turbo Rear'!$A$1, MATCH(A32,'Turbo Rear'!$A$2:$A$16), 3, 2, 1), OFFSET('Turbo Rear'!$A$1, MATCH(A32,'Turbo Rear'!$A$2:$A$16), 0, 2, 1)), OFFSET('Turbo Rear'!$A$1, MATCH(A32,'Turbo Rear'!$A$2:$A$16), 3, 1, 1)) -> 195 | D32: =IFERROR(FORECAST(B32, OFFSET('Turbo Front'!$A$1, MATCH(B32,'Turbo Front'!$A$2:$A$16), 3, 2, 1), OFFSET('Turbo Front'!$A$1, MATCH(B32,'Turbo Front'!$A$2:$A$16), 0, 2, 1)), OFFSET('Turbo Front'!$A$1, MATCH(B32,'Turbo Front'!$A$2:$A$16), 3, 1, 1)) -> 229.09278 | E32: =$A32/119 -> 134.45378 | F32: =C32+D32 -> 424.09278 | G32: 263.4 | H32: =($C32/1.356*$A32)/5252/0.986+($D32/1.356*$B32)/5252/0.986 -> 713.38925

Sheet 4S Front
A1: RPM | B1: Nm | C1: PS | D1: Nm (Launch) | E1: PS (Launch)
A2: 0 | B2: 300 | C2: =(B2/1.356*A2)/5252/0.986 -> 0 | D2: 300 | E2: =(D2/1.356*A2)/5252/0.986 -> 0
A3: 1000 | B3: 300 | C3: =(B3/1.356*A3)/5252/0.986 -> 42.722822 | D3: 300 | E3: =(D3/1.356*A3)/5252/0.986 -> 42.722822
A4: 3250 | B4: 300 | C4: =(B4/1.356*A4)/5252/0.986 -> 138.84917 | D4: 300 | E4: =(D4/1.356*A4)/5252/0.986 -> 138.84917
A5: 3850 | B5: 300 | C5: =(B5/1.356*A5)/5252/0.986 -> 164.48287 | D5: 300 | E5: =(D5/1.356*A5)/5252/0.986 -> 164.48287
A6: 5000 | B6: 300 | C6: =(B6/1.356*A6)/5252/0.986 -> 213.61411 | D6: 300 | E6: =(D6/1.356*A6)/5252/0.986 -> 213.61411
A7: 5600 | B7: 300 | C7: =(B7/1.356*A7)/5252/0.986 -> 239.2478 | D7: 300 | E7: =(D7/1.356*A7)/5252/0.986 -> 239.2478
A8: 6000 | B8: 300 | C8: =(B8/1.356*A8)/5252/0.986 -> 256.33693 | D8: 300 | E8: =(D8/1.356*A8)/5252/0.986 -> 256.33693
A9: 6200 | B9: 295 | C9: =(B9/1.356*A9)/5252/0.986 -> 260.46681 | D9: 295 | E9: =(D9/1.356*A9)/5252/0.986 -> 260.46681
A10: 7000 | B10: 282 | C10: =(B10/1.356*A10)/5252/0.986 -> 281.11617 | D10: 282 | E10: =(D10/1.356*A10)/5252/0.986 -> 281.11617
A11: 8000 | B11: 238 | C11: =(B11/1.356*A11)/5252/0.986 -> 271.14751 | D11: 238 | E11: =(D11/1.356*A11)/5252/0.986 -> 271.14751
A12: 9000 | B12: 202 | C12: =(B12/1.356*A12)/5252/0.986 -> 258.9003 | D12: 202 | E12: =(D12/1.356*A12)/5252/0.986 -> 258.9003
A13: 10000 | B13: 175 | C13: =(B13/1.356*A13)/5252/0.986 -> 249.21646 | D13: 175 | E13: =(D13/1.356*A13)/5252/0.986 -> 249.21646
... A16: 16000 | B16: 90 | C16: =(B16/1.356*A16)/5252/0.986 -> 205.06955 | D16: 90 | E16: =(D16/1.356*A16)/5252/0.986 -> 205.06955

Sheet 4S Rear
A1: RPM | B1: Nm | C1: PS | D1: Nm (Launch) | E1: PS (Launch)
A2: 0 | B2: 340 | C2: =(B2/1.356*$A2)/5252/0.986 -> 0 | D2: 360 | E2: =(D2/1.356*$A2)/5252/0.986 -> 0
A3: 1000 | B3: 340 | C3: =(B3/1.356*$A3)/5252/0.986 -> 48.419198 | D3: 360 | E3: =(D3/1.356*$A3)/5252/0.986 -> 51.267387
A4: 3250 | B4: 340 | C4: =(B4/1.356*$A4)/5252/0.986 -> 157.36239 | D4: 360 | E4: =(D4/1.356*$A4)/5252/0.986 -> 166.61901
A5: 3850 | B5: 340 | C5: =(B5/1.356*$A5)/5252/0.986 -> 186.41391 | D5: 360 | E5: =(D5/1.356*$A5)/5252/0.986 -> 197.37944
A6: 5000 | B6: 340 | C6: =(B6/1.356*$A6)/5252/0.986 -> 242.09599 | D6: 360 | E6: =(D6/1.356*$A6)/5252/0.986 -> 256.33693
A7: 5600 | B7: 340 | C7: =(B7/1.356*$A7)/5252/0.986 -> 271.14751 | D7: 360 | E7: =(D7/1.356*$A7)/5252/0.986 -> 287.09736
A8: 6000 | B8: 340 | C8: =(B8/1.356*$A8)/5252/0.986 -> 290.51519 | D8: 360 | E8: =(D8/1.356*$A8)/5252/0.986 -> 307.60432
A9: 6200 | B9: 340 | C9: =(B9/1.356*$A9)/5252/0.986 -> 300.19903 | D9: 360 | E9: =(D9/1.356*$A9)/5252/0.986 -> 317.8578
A10: 7000 | B10: 340 | C10: =(B10/1.356*$A10)/5252/0.986 -> 338.93439 | D10: 360 | E10: =(D10/1.356*$A10)/5252/0.986 -> 358.87171
A11: 8000 | B11: 340 | C11: =(B11/1.356*$A11)/5252/0.986 -> 387.35359 | D11: 360 | E11: =(D11/1.356*$A11)/5252/0.986 -> 410.13909
A12: 9000 | B12: 340 | C12: =(B12/1.356*$A12)/5252/0.986 -> 435.77279 | D12: 360 | E12: =(D12/1.356*$A12)/5252/0.986 -> 461.40648
A13: 10000 | B13: 336 | C13: =(B13/1.356*$A13)/5252/0.986 -> 478.49561 | D13: 336 | E13: =(D13/1.356*$A13)/5252/0.986 -> 478.49561
... A16: 16000 | B16: 195 | C16: =(B16/1.356*$A16)/5252/0.986 -> 444.31735 | D16: 195 | E16: =(D16/1.356*$A16)/5252/0.986 -> 444.31735

Sheet 4S Total
A1: RPM | B1: Nm | C1: PS | D1: Nm (Launch) | E1: PS (Launch)
A2: ='4S Front'!A2 -> 0 | B2: ='4S Front'!B2 + '4S Rear'!B2 -> 640 | C2: ='4S Front'!C2 + '4S Rear'!C2 -> 0 | D2: ='4S Front'!D2 + '4S Rear'!D2 -> 660 | E2: ='4S Front'!E2 + '4S Rear'!E2 -> 0
A3: ='4S Front'!A3 -> 1000 | B3: ='4S Front'!B3 + '4S Rear'!B3 -> 640 | C3: ='4S Front'!C3 + '4S Rear'!C3 -> 91.14202 | D3: ='4S Front'!D3 + '4S Rear'!D3 -> 660 | E3: ='4S Front'!E3 + '4S Rear'!E3 -> 93.990209
A4: ='4S Front'!A4 -> 3250 | B4: ='4S Front'!B4 + '4S Rear'!B4 -> 640 | C4: ='4S Front'!C4 + '4S Rear'!C4 -> 296.21157 | D4: ='4S Front'!D4 + '4S Rear'!D4 -> 660 | E4: ='4S Front'!E4 + '4S Rear'!E4 -> 305.46818
A5: ='4S Front'!A5 -> 3850 | B5: ='4S Front'!B5 + '4S Rear'!B5 -> 640 | C5: ='4S Front'!C5 + '4S Rear'!C5 -> 350.89678 | D5: ='4S Front'!D5 + '4S Rear'!D5 -> 660 | E5: ='4S Front'!E5 + '4S Rear'!E5 -> 361.8623
A6: ='4S Front'!A6 -> 5000 | B6: ='4S Front'!B6 + '4S Rear'!B6 -> 640 | C6: ='4S Front'!C6 + '4S Rear'!C6 -> 455.7101 | D6: ='4S Front'!D6 + '4S Rear'!D6 -> 660 | E6: ='4S Front'!E6 + '4S Rear'!E6 -> 469.95104
A7: ='4S Front'!A7 -> 5600 | B7: ='4S Front'!B7 + '4S Rear'!B7 -> 640 | C7: ='4S Front'!C7 + '4S Rear'!C7 -> 510.39531 | D7: ='4S Front'!D7 + '4S Rear'!D7 -> 660 | E7: ='4S Front'!E7 + '4S Rear'!E7 -> 526.34517
A8: ='4S Front'!A8 -> 6000 | B8: ='4S Front'!B8 + '4S Rear'!B8 -> 640 | C8: ='4S Front'!C8 + '4S Rear'!C8 -> 546.85212 | D8: ='4S Front'!D8 + '4S Rear'!D8 -> 660 | E8: ='4S Front'!E8 + '4S Rear'!E8 -> 563.94125
A9: ='4S Front'!A9 -> 6200 | B9: ='4S Front'!B9 + '4S Rear'!B9 -> 635 | C9: ='4S Front'!C9 + '4S Rear'!C9 -> 560.66584 | D9: ='4S Front'!D9 + '4S Rear'!D9 -> 655 | E9: ='4S Front'!E9 + '4S Rear'!E9 -> 578.3246
A10: ='4S Front'!A10 -> 7000 | B10: ='4S Front'!B10 + '4S Rear'!B10 -> 622 | C10: ='4S Front'!C10 + '4S Rear'!C10 -> 620.05056 | D10: ='4S Front'!D10 + '4S Rear'!D10 -> 642 | E10: ='4S Front'!E10 + '4S Rear'!E10 -> 639.98788
A11: ='4S Front'!A11 -> 8000 | B11: ='4S Front'!B11 + '4S Rear'!B11 -> 578 | C11: ='4S Front'!C11 + '4S Rear'!C11 -> 658.5011 | D11: ='4S Front'!D11 + '4S Rear'!D11 -> 598 | E11: ='4S Front'!E11 + '4S Rear'!E11 -> 681.2866
A12: ='4S Front'!A12 -> 9000 | B12: ='4S Front'!B12 + '4S Rear'!B12 -> 542 | C12: ='4S Front'!C12 + '4S Rear'!C12 -> 694.67309 | D12: ='4S Front'!D12 + '4S Rear'!D12 -> 562 | E12: ='4S Front'!E12 + '4S Rear'!E12 -> 720.30678
A13: ='4S Front'!A13 -> 10000 | B13: ='4S Front'!B13 + '4S Rear'!B13 -> 511 | C13: ='4S Front'!C13 + '4S Rear'!C13 -> 727.71207 | D13: ='4S Front'!D13 + '4S Rear'!D13 -> 511 | E13: ='4S Front'!E13 + '4S Rear'!E13 -> 727.71207
... A16: ='4S Front'!A16 -> 16000 | B16: ='4S Front'!B16 + '4S Rear'!B16 -> 285 | C16: ='4S Front'!C16 + '4S Rear'!C16 -> 649.3869 | D16: ='4S Front'!D16 + '4S Rear'!D16 -> 285 | E16: ='4S Front'!E16 + '4S Rear'!E16 -> 649.3869

Sheet 4S 1st
A1: RPM rear | B1: RPM front | C1: Rear max | D1: Front Max | E1: Speed | F1: Torque Max | G1: Torque | H1: Power Max
A2: 0 | B2: =A2/1.94 -> 0 | C2: =IFERROR(FORECAST(A2, OFFSET('4S Rear'!$A$1, MATCH(A2,'4S Rear'!$A$2:$A$16), 3, 2, 1), OFFSET('4S Rear'!$A$1, MATCH(A2,'4S Rear'!$A$2:$A$16), 0, 2, 1)), OFFSET('4S Rear'!$A$1, MATCH(A2,'4S Rear'!$A$2:$A$16), 3, 1, 1)) -> 360 | D2: =IFERROR(FORECAST(B2, OFFSET('4S Front'!$A$1, MATCH(B2,'4S Front'!$A$2:$A$16), 3, 2, 1), OFFSET('4S Front'!$A$1, MATCH(B2,'4S Front'!$A$2:$A$16), 0, 2, 1)), OFFSET('4S Front'!$A$1, MATCH(B2,'4S Front'!$A$2:$A$16), 3, 1, 1)) -> 300 | E2: =$A2/119 -> 0 | F2: =C2+D2 -> 660 | G2: 635.3 | H2: =($C2/1.356*$A2)/5252/0.986+($D2/1.356*$B2)/5252/0.986 -> 0
A3: 1000 | B3: =A3/1.94 -> 515.46392 | C3: =IFERROR(FORECAST(A3, OFFSET('4S Rear'!$A$1, MATCH(A3,'4S Rear'!$A$2:$A$16), 3, 2, 1), OFFSET('4S Rear'!$A$1, MATCH(A3,'4S Rear'!$A$2:$A$16), 0, 2, 1)), OFFSET('4S Rear'!$A$1, MATCH(A3,'4S Rear'!$A$2:$A$16), 3, 1, 1)) -> 360 | D3: =IFERROR(FORECAST(B3, OFFSET('4S Front'!$A$1, MATCH(B3,'4S Front'!$A$2:$A$16), 3, 2, 1), OFFSET('4S Front'!$A$1, MATCH(B3,'4S Front'!$A$2:$A$16), 0, 2, 1)), OFFSET('4S Front'!$A$1, MATCH(B3,'4S Front'!$A$2:$A$16), 3, 1, 1)) -> 300 | E3: =$A3/119 -> 8.4033613 | F3: =C3+D3 -> 660 | G3: 635.3 | H3: =($C3/1.356*$A3)/5252/0.986+($D3/1.356*$B3)/5252/0.986 -> 73.28946
A4: 1500 | B4: =A4/1.94 -> 773.19588 | C4: =IFERROR(FORECAST(A4, OFFSET('4S Rear'!$A$1, MATCH(A4,'4S Rear'!$A$2:$A$16), 3, 2, 1), OFFSET('4S Rear'!$A$1, MATCH(A4,'4S Rear'!$A$2:$A$16), 0, 2, 1)), OFFSET('4S Rear'!$A$1, MATCH(A4,'4S Rear'!$A$2:$A$16), 3, 1, 1)) -> 360 | D4: =IFERROR(FORECAST(B4, OFFSET('4S Front'!$A$1, MATCH(B4,'4S Front'!$A$2:$A$16), 3, 2, 1), OFFSET('4S Front'!$A$1, MATCH(B4,'4S Front'!$A$2:$A$16), 0, 2, 1)), OFFSET('4S Front'!$A$1, MATCH(B4,'4S Front'!$A$2:$A$16), 3, 1, 1)) -> 300 | E4: =$A4/119 -> 12.605042 | F4: =C4+D4 -> 660 | G4: 635.3 | H4: =($C4/1.356*$A4)/5252/0.986+($D4/1.356*$B4)/5252/0.986 -> 109.93419
A5: 2000 | B5: =A5/1.94 -> 1030.9278 | C5: =IFERROR(FORECAST(A5, OFFSET('4S Rear'!$A$1, MATCH(A5,'4S Rear'!$A$2:$A$16), 3, 2, 1), OFFSET('4S Rear'!$A$1, MATCH(A5,'4S Rear'!$A$2:$A$16), 0, 2, 1)), OFFSET('4S Rear'!$A$1, MATCH(A5,'4S Rear'!$A$2:$A$16), 3, 1, 1)) -> 360 | D5: =IFERROR(FORECAST(B5, OFFSET('4S Front'!$A$1, MATCH(B5,'4S Front'!$A$2:$A$16), 3, 2, 1), OFFSET('4S Front'!$A$1, MATCH(B5,'4S Front'!$A$2:$A$16), 0, 2, 1)), OFFSET('4S Front'!$A$1, MATCH(B5,'4S Front'!$A$2:$A$16), 3, 1, 1)) -> 300 | E5: =$A5/119 -> 16.806723 | F5: =C5+D5 -> 660 | G5: 635.3 | H5: =($C5/1.356*$A5)/5252/0.986+($D5/1.356*$B5)/5252/0.986 -> 146.57892
A6: 2500 | B6: =A6/1.94 -> 1288.6598 | C6: =IFERROR(FORECAST(A6, OFFSET('4S Rear'!$A$1, MATCH(A6,'4S Rear'!$A$2:$A$16), 3, 2, 1), OFFSET('4S Rear'!$A$1, MATCH(A6,'4S Rear'!$A$2:$A$16), 0, 2, 1)), OFFSET('4S Rear'!$A$1, MATCH(A6,'4S Rear'!$A$2:$A$16), 3, 1, 1)) -> 360 | D6: =IFERROR(FORECAST(B6, OFFSET('4S Front'!$A$1, MATCH(B6,'4S Front'!$A$2:$A$16), 3, 2, 1), OFFSET('4S Front'!$A$1, MATCH(B6,'4S Front'!$A$2:$A$16), 0, 2, 1)), OFFSET('4S Front'!$A$1, MATCH(B6,'4S Front'!$A$2:$A$16), 3, 1, 1)) -> 300 | E6: =$A6/119 -> 21.008403 | F6: =C6+D6 -> 660 | G6: 635.3 | H6: =($C6/1.356*$A6)/5252/0.986+($D6/1.356*$B6)/5252/0.986 -> 183.22365
A7: 3000 | B7: =A7/1.94 -> 1546.3918 | C7: =IFERROR(FORECAST(A7, OFFSET('4S Rear'!$A$1, MATCH(A7,'4S Rear'!$A$2:$A$16), 3, 2, 1), OFFSET('4S Rear'!$A$1, MATCH(A7,'4S Rear'!$A$2:$A$16), 0, 2, 1)), OFFSET('4S Rear'!$A$1, MATCH(A7,'4S Rear'!$A$2:$A$16), 3, 1, 1)) -> 360 | D7: =IFERROR(FORECAST(B7, OFFSET('4S Front'!$A$1, MATCH(B7,'4S Front'!$A$2:$A$16), 3, 2, 1), OFFSET('4S Front'!$A$1, MATCH(B7,'4S Front'!$A$2:$A$16), 0, 2, 1)), OFFSET('4S Front'!$A$1, MATCH(B7,'4S Front'!$A$2:$A$16), 3, 1, 1)) -> 300 | E7: =$A7/119 -> 25.210084 | F7: =C7+D7 -> 660 | G7: 635.3 | H7: =($C7/1.356*$A7)/5252/0.986+($D7/1.356*$B7)/5252/0.986 -> 219.86838
A8: 3500 | B8: =A8/1.94 -> 1804.1237 | C8: =IFERROR(FORECAST(A8, OFFSET('4S Rear'!$A$1, MATCH(A8,'4S Rear'!$A$2:$A$16), 3, 2, 1), OFFSET('4S Rear'!$A$1, MATCH(A8,'4S Rear'!$A$2:$A$16), 0, 2, 1)), OFFSET('4S Rear'!$A$1, MATCH(A8,'4S Rear'!$A$2:$A$16), 3, 1, 1)) -> 360 | D8: =IFERROR(FORECAST(B8, OFFSET('4S Front'!$A$1, MATCH(B8,'4S Front'!$A$2:$A$16), 3, 2, 1), OFFSET('4S Front'!$A$1, MATCH(B8,'4S Front'!$A$2:$A$16), 0, 2, 1)), OFFSET('4S Front'!$A$1, MATCH(B8,'4S Front'!$A$2:$A$16), 3, 1, 1)) -> 300 | E8: =$A8/119 -> 29.411765 | F8: =C8+D8 -> 660 | G8: 635.3 | H8: =($C8/1.356*$A8)/5252/0.986+($D8/1.356*$B8)/5252/0.986 -> 256.51311
A9: 4000 | B9: =A9/1.94 -> 2061.8557 | C9: =IFERROR(FORECAST(A9, OFFSET('4S Rear'!$A$1, MATCH(A9,'4S Rear'!$A$2:$A$16), 3, 2, 1), OFFSET('4S Rear'!$A$1, MATCH(A9,'4S Rear'!$A$2:$A$16), 0, 2, 1)), OFFSET('4S Rear'!$A$1, MATCH(A9,'4S Rear'!$A$2:$A$16), 3, 1, 1)) -> 360 | D9: =IFERROR(FORECAST(B9, OFFSET('4S Front'!$A$1, MATCH(B9,'4S Front'!$A$2:$A$16), 3, 2, 1), OFFSET('4S Front'!$A$1, MATCH(B9,'4S Front'!$A$2:$A$16), 0, 2, 1)), OFFSET('4S Front'!$A$1, MATCH(B9,'4S Front'!$A$2:$A$16), 3, 1, 1)) -> 300 | E9: =$A9/119 -> 33.613445 | F9: =C9+D9 -> 660 | G9: 635.3 | H9: =($C9/1.356*$A9)/5252/0.986+($D9/1.356*$B9)/5252/0.986 -> 293.15784
A10: 4500 | B10: =A10/1.94 -> 2319.5876 | C10: =IFERROR(FORECAST(A10, OFFSET('4S Rear'!$A$1, MATCH(A10,'4S Rear'!$A$2:$A$16), 3, 2, 1), OFFSET('4S Rear'!$A$1, MATCH(A10,'4S Rear'!$A$2:$A$16), 0, 2, 1)), OFFSET('4S Rear'!$A$1, MATCH(A10,'4S Rear'!$A$2:$A$16), 3, 1, 1)) -> 360 | D10: =IFERROR(FORECAST(B10, OFFSET('4S Front'!$A$1, MATCH(B10,'4S Front'!$A$2:$A$16), 3, 2, 1), OFFSET('4S Front'!$A$1, MATCH(B10,'4S Front'!$A$2:$A$16), 0, 2, 1)), OFFSET('4S Front'!$A$1, MATCH(B10,'4S Front'!$A$2:$A$16), 3, 1, 1)) -> 300 | E10: =$A10/119 -> 37.815126 | F10: =C10+D10 -> 660 | G10: 635.3 | H10: =($C10/1.356*$A10)/5252/0.986+($D10/1.356*$B10)/5252/0.986 -> 329.80257
A11: 5000 | B11: =A11/1.94 -> 2577.3196 | C11: =IFERROR(FORECAST(A11, OFFSET('4S Rear'!$A$1, MATCH(A11,'4S Rear'!$A$2:$A$16), 3, 2, 1), OFFSET('4S Rear'!$A$1, MATCH(A11,'4S Rear'!$A$2:$A$16), 0, 2, 1)), OFFSET('4S Rear'!$A$1, MATCH(A11,'4S Rear'!$A$2:$A$16), 3, 1, 1)) -> 360 | D11: =IFERROR(FORECAST(B11, OFFSET('4S Front'!$A$1, MATCH(B11,'4S Front'!$A$2:$A$16), 3, 2, 1), OFFSET('4S Front'!$A$1, MATCH(B11,'4S Front'!$A$2:$A$16), 0, 2, 1)), OFFSET('4S Front'!$A$1, MATCH(B11,'4S Front'!$A$2:$A$16), 3, 1, 1)) -> 300 | E11: =$A11/119 -> 42.016807 | F11: =C11+D11 -> 660 | G11: 635.3 | H11: =($C11/1.356*$A11)/5252/0.986+($D11/1.356*$B11)/5252/0.986 -> 366.4473
A12: 5500 | B12: =A12/1.94 -> 2835.0515 | C12: =IFERROR(FORECAST(A12, OFFSET('4S Rear'!$A$1, MATCH(A12,'4S Rear'!$A$2:$A$16), 3, 2, 1), OFFSET('4S Rear'!$A$1, MATCH(A12,'4S Rear'!$A$2:$A$16), 0, 2, 1)), OFFSET('4S Rear'!$A$1, MATCH(A12,'4S Rear'!$A$2:$A$16), 3, 1, 1)) -> 360 | D12: =IFERROR(FORECAST(B12, OFFSET('4S Front'!$A$1, MATCH(B12,'4S Front'!$A$2:$A$16), 3, 2, 1), OFFSET('4S Front'!$A$1, MATCH(B12,'4S Front'!$A$2:$A$16), 0, 2, 1)), OFFSET('4S Front'!$A$1, MATCH(B12,'4S Front'!$A$2:$A$16), 3, 1, 1)) -> 300 | E12: =$A12/119 -> 46.218487 | F12: =C12+D12 -> 660 | G12: 626.7 | H12: =($C12/1.356*$A12)/5252/0.986+($D12/1.356*$B12)/5252/0.986 -> 403.09203
A13: 6000 | B13: =A13/1.94 -> 3092.7835 | C13: =IFERROR(FORECAST(A13, OFFSET('4S Rear'!$A$1, MATCH(A13,'4S Rear'!$A$2:$A$16), 3, 2, 1), OFFSET('4S Rear'!$A$1, MATCH(A13,'4S Rear'!$A$2:$A$16), 0, 2, 1)), OFFSET('4S Rear'!$A$1, MATCH(A13,'4S Rear'!$A$2:$A$16), 3, 1, 1)) -> 360 | D13: =IFERROR(FORECAST(B13, OFFSET('4S Front'!$A$1, MATCH(B13,'4S Front'!$A$2:$A$16), 3, 2, 1), OFFSET('4S Front'!$A$1, MATCH(B13,'4S Front'!$A$2:$A$16), 0, 2, 1)), OFFSET('4S Front'!$A$1, MATCH(B13,'4S Front'!$A$2:$A$16), 3, 1, 1)) -> 300 | E13: =$A13/119 -> 50.420168 | F13: =C13+D13 -> 660 | G13: 573.6 | H13: =($C13/1.356*$A13)/5252/0.986+($D13/1.356*$B13)/5252/0.986 -> 439.73676
... A32: 16000 | B32: =A32/1.94 -> 8247.4227 | C32: =IFERROR(FORECAST(A32, OFFSET('4S Rear'!$A$1, MATCH(A32,'4S Rear'!$A$2:$A$16), 3, 2, 1), OFFSET('4S Rear'!$A$1, MATCH(A32,'4S Rear'!$A$2:$A$16), 0, 2, 1)), OFFSET('4S Rear'!$A$1, MATCH(A32,'4S Rear'!$A$2:$A$16), 3, 1, 1)) -> 195 | D32: =IFERROR(FORECAST(B32, OFFSET('4S Front'!$A$1, MATCH(B32,'4S Front'!$A$2:$A$16), 3, 2, 1), OFFSET('4S Front'!$A$1, MATCH(B32,'4S Front'!$A$2:$A$16), 0, 2, 1)), OFFSET('4S Front'!$A$1, MATCH(B32,'4S Front'!$A$2:$A$16), 3, 1, 1)) -> 229.09278 | E32: =$A32/119 -> 134.45378 | F32: =C32+D32 -> 424.09278 | G32: 215.5 | H32: =($C32/1.356*$A32)/5252/0.986+($D32/1.356*$B32)/5252/0.986 -> 713.38925

Sheet e-tron GT 1st
A1: RPM rear | B1: RPM front | C1: Rear max | D1: Front Max | E1: Speed | F1: Torque Max | G1: Torque | H1: Power Max
A2: 0 | B2: =A2/1.94 -> 0 | C2: =IFERROR(FORECAST(A2, OFFSET('4S Rear'!$A$1, MATCH(A2,'4S Rear'!$A$2:$A$16), 3, 2, 1), OFFSET('4S Rear'!$A$1, MATCH(A2,'4S Rear'!$A$2:$A$16), 0, 2, 1)), OFFSET('4S Rear'!$A$1, MATCH(A2,'4S Rear'!$A$2:$A$16), 3, 1, 1)) -> 360 | D2: =IFERROR(FORECAST(B2, OFFSET('4S Front'!$A$1, MATCH(B2,'4S Front'!$A$2:$A$16), 3, 2, 1), OFFSET('4S Front'!$A$1, MATCH(B2,'4S Front'!$A$2:$A$16), 0, 2, 1)), OFFSET('4S Front'!$A$1, MATCH(B2,'4S Front'!$A$2:$A$16), 3, 1, 1)) -> 300 | E2: =$A2/119 -> 0 | F2: =C2+D2 -> 660 | G2: 635.3 | H2: =($C2/1.356*$A2)/5252/0.986+($D2/1.356*$B2)/5252/0.986 -> 0
A3: 1000 | B3: =A3/1.94 -> 515.46392 | C3: =IFERROR(FORECAST(A3, OFFSET('4S Rear'!$A$1, MATCH(A3,'4S Rear'!$A$2:$A$16), 3, 2, 1), OFFSET('4S Rear'!$A$1, MATCH(A3,'4S Rear'!$A$2:$A$16), 0, 2, 1)), OFFSET('4S Rear'!$A$1, MATCH(A3,'4S Rear'!$A$2:$A$16), 3, 1, 1)) -> 360 | D3: =IFERROR(FORECAST(B3, OFFSET('4S Front'!$A$1, MATCH(B3,'4S Front'!$A$2:$A$16), 3, 2, 1), OFFSET('4S Front'!$A$1, MATCH(B3,'4S Front'!$A$2:$A$16), 0, 2, 1)), OFFSET('4S Front'!$A$1, MATCH(B3,'4S Front'!$A$2:$A$16), 3, 1, 1)) -> 300 | E3: =$A3/119 -> 8.4033613 | F3: =C3+D3 -> 660 | G3: 635.3 | H3: =($C3/1.356*$A3)/5252/0.986+($D3/1.356*$B3)/5252/0.986 -> 73.28946
A4: 1500 | B4: =A4/1.94 -> 773.19588 | C4: =IFERROR(FORECAST(A4, OFFSET('4S Rear'!$A$1, MATCH(A4,'4S Rear'!$A$2:$A$16), 3, 2, 1), OFFSET('4S Rear'!$A$1, MATCH(A4,'4S Rear'!$A$2:$A$16), 0, 2, 1)), OFFSET('4S Rear'!$A$1, MATCH(A4,'4S Rear'!$A$2:$A$16), 3, 1, 1)) -> 360 | D4: =IFERROR(FORECAST(B4, OFFSET('4S Front'!$A$1, MATCH(B4,'4S Front'!$A$2:$A$16), 3, 2, 1), OFFSET('4S Front'!$A$1, MATCH(B4,'4S Front'!$A$2:$A$16), 0, 2, 1)), OFFSET('4S Front'!$A$1, MATCH(B4,'4S Front'!$A$2:$A$16), 3, 1, 1)) -> 300 | E4: =$A4/119 -> 12.605042 | F4: =C4+D4 -> 660 | G4: 635.3 | H4: =($C4/1.356*$A4)/5252/0.986+($D4/1.356*$B4)/5252/0.986 -> 109.93419
A5: 2000 | B5: =A5/1.94 -> 1030.9278 | C5: =IFERROR(FORECAST(A5, OFFSET('4S Rear'!$A$1, MATCH(A5,'4S Rear'!$A$2:$A$16), 3, 2, 1), OFFSET('4S Rear'!$A$1, MATCH(A5,'4S Rear'!$A$2:$A$16), 0, 2, 1)), OFFSET('4S Rear'!$A$1, MATCH(A5,'4S Rear'!$A$2:$A$16), 3, 1, 1)) -> 360 | D5: =IFERROR(FORECAST(B5, OFFSET('4S Front'!$A$1, MATCH(B5,'4S Front'!$A$2:$A$16), 3, 2, 1), OFFSET('4S Front'!$A$1, MATCH(B5,'4S Front'!$A$2:$A$16), 0, 2, 1)), OFFSET('4S Front'!$A$1, MATCH(B5,'4S Front'!$A$2:$A$16), 3, 1, 1)) -> 300 | E5: =$A5/119 -> 16.806723 | F5: =C5+D5 -> 660 | G5: 635.3 | H5: =($C5/1.356*$A5)/5252/0.986+($D5/1.356*$B5)/5252/0.986 -> 146.57892
A6: 2500 | B6: =A6/1.94 -> 1288.6598 | C6: =IFERROR(FORECAST(A6, OFFSET('4S Rear'!$A$1, MATCH(A6,'4S Rear'!$A$2:$A$16), 3, 2, 1), OFFSET('4S Rear'!$A$1, MATCH(A6,'4S Rear'!$A$2:$A$16), 0, 2, 1)), OFFSET('4S Rear'!$A$1, MATCH(A6,'4S Rear'!$A$2:$A$16), 3, 1, 1)) -> 360 | D6: =IFERROR(FORECAST(B6, OFFSET('4S Front'!$A$1, MATCH(B6,'4S Front'!$A$2:$A$16), 3, 2, 1), OFFSET('4S Front'!$A$1, MATCH(B6,'4S Front'!$A$2:$A$16), 0, 2, 1)), OFFSET('4S Front'!$A$1, MATCH(B6,'4S Front'!$A$2:$A$16), 3, 1, 1)) -> 300 | E6: =$A6/119 -> 21.008403 | F6: =C6+D6 -> 660 | G6: 635.3 | H6: =($C6/1.356*$A6)/5252/0.986+($D6/1.356*$B6)/5252/0.986 -> 183.22365
A7: 3000 | B7: =A7/1.94 -> 1546.3918 | C7: =IFERROR(FORECAST(A7, OFFSET('4S Rear'!$A$1, MATCH(A7,'4S Rear'!$A$2:$A$16), 3, 2, 1), OFFSET('4S Rear'!$A$1, MATCH(A7,'4S Rear'!$A$2:$A$16), 0, 2, 1)), OFFSET('4S Rear'!$A$1, MATCH(A7,'4S Rear'!$A$2:$A$16), 3, 1, 1)) -> 360 | D7: =IFERROR(FORECAST(B7, OFFSET('4S Front'!$A$1, MATCH(B7,'4S Front'!$A$2:$A$16), 3, 2, 1), OFFSET('4S Front'!$A$1, MATCH(B7,'4S Front'!$A$2:$A$16), 0, 2, 1)), OFFSET('4S Front'!$A$1, MATCH(B7,'4S Front'!$A$2:$A$16), 3, 1, 1)) -> 300 | E7: =$A7/119 -> 25.210084 | F7: =C7+D7 -> 660 | G7: 635.3 | H7: =($C7/1.356*$A7)/5252/0.986+($D7/1.356*$B7)/5252/0.986 -> 219.86838
A8: 3500 | B8: =A8/1.94 -> 1804.1237 | C8: =IFERROR(FORECAST(A8, OFFSET('4S Rear'!$A$1, MATCH(A8,'4S Rear'!$A$2:$A$16), 3, 2, 1), OFFSET('4S Rear'!$A$1, MATCH(A8,'4S Rear'!$A$2:$A$16), 0, 2, 1)), OFFSET('4S Rear'!$A$1, MATCH(A8,'4S Rear'!$A$2:$A$16), 3, 1, 1)) -> 360 | D8: =IFERROR(FORECAST(B8, OFFSET('4S Front'!$A$1, MATCH(B8,'4S Front'!$A$2:$A$16), 3, 2, 1), OFFSET('4S Front'!$A$1, MATCH(B8,'4S Front'!$A$2:$A$16), 0, 2, 1)), OFFSET('4S Front'!$A$1, MATCH(B8,'4S Front'!$A$2:$A$16), 3, 1, 1)) -> 300 | E8: =$A8/119 -> 29.411765 | F8: =C8+D8 -> 660 | G8: 635.3 | H8: =($C8/1.356*$A8)/5252/0.986+($D8/1.356*$B8)/5252/0.986 -> 256.51311
A9: 4000 | B9: =A9/1.94 -> 2061.8557 | C9: =IFERROR(FORECAST(A9, OFFSET('4S Rear'!$A$1, MATCH(A9,'4S Rear'!$A$2:$A$16), 3, 2, 1), OFFSET('4S Rear'!$A$1, MATCH(A9,'4S Rear'!$A$2:$A$16), 0, 2, 1)), OFFSET('4S Rear'!$A$1, MATCH(A9,'4S Rear'!$A$2:$A$16), 3, 1, 1)) -> 360 | D9: =IFERROR(FORECAST(B9, OFFSET('4S Front'!$A$1, MATCH(B9,'4S Front'!$A$2:$A$16), 3, 2, 1), OFFSET('4S Front'!$A$1, MATCH(B9,'4S Front'!$A$2:$A$16), 0, 2, 1)), OFFSET('4S Front'!$A$1, MATCH(B9,'4S Front'!$A$2:$A$16), 3, 1, 1)) -> 300 | E9: =$A9/119 -> 33.613445 | F9: =C9+D9 -> 660 | G9: 635.3 | H9: =($C9/1.356*$A9)/5252/0.986+($D9/1.356*$B9)/5252/0.986 -> 293.15784
A10: 4500 | B10: =A10/1.94 -> 2319.5876 | C10: =IFERROR(FORECAST(A10, OFFSET('4S Rear'!$A$1, MATCH(A10,'4S Rear'!$A$2:$A$16), 3, 2, 1), OFFSET('4S Rear'!$A$1, MATCH(A10,'4S Rear'!$A$2:$A$16), 0, 2, 1)), OFFSET('4S Rear'!$A$1, MATCH(A10,'4S Rear'!$A$2:$A$16), 3, 1, 1)) -> 360 | D10: =IFERROR(FORECAST(B10, OFFSET('4S Front'!$A$1, MATCH(B10,'4S Front'!$A$2:$A$16), 3, 2, 1), OFFSET('4S Front'!$A$1, MATCH(B10,'4S Front'!$A$2:$A$16), 0, 2, 1)), OFFSET('4S Front'!$A$1, MATCH(B10,'4S Front'!$A$2:$A$16), 3, 1, 1)) -> 300 | E10: =$A10/119 -> 37.815126 | F10: =C10+D10 -> 660 | G10: 635.3 | H10: =($C10/1.356*$A10)/5252/0.986+($D10/1.356*$B10)/5252/0.986 -> 329.80257
A11: 5000 | B11: =A11/1.94 -> 2577.3196 | C11: =IFERROR(FORECAST(A11, OFFSET('4S Rear'!$A$1, MATCH(A11,'4S Rear'!$A$2:$A$16), 3, 2, 1), OFFSET('4S Rear'!$A$1, MATCH(A11,'4S Rear'!$A$2:$A$16), 0, 2, 1)), OFFSET('4S Rear'!$A$1, MATCH(A11,'4S Rear'!$A$2:$A$16), 3, 1, 1)) -> 360 | D11: =IFERROR(FORECAST(B11, OFFSET('4S Front'!$A$1, MATCH(B11,'4S Front'!$A$2:$A$16), 3, 2, 1), OFFSET('4S Front'!$A$1, MATCH(B11,'4S Front'!$A$2:$A$16), 0, 2, 1)), OFFSET('4S Front'!$A$1, MATCH(B11,'4S Front'!$A$2:$A$16), 3, 1, 1)) -> 300 | E11: =$A11/119 -> 42.016807 | F11: =C11+D11 -> 660 | G11: 635.3 | H11: =($C11/1.356*$A11)/5252/0.986+($D11/1.356*$B11)/5252/0.986 -> 366.4473
A12: 5500 | B12: =A12/1.94 -> 2835.0515 | C12: =IFERROR(FORECAST(A12, OFFSET('4S Rear'!$A$1, MATCH(A12,'4S Rear'!$A$2:$A$16), 3, 2, 1), OFFSET('4S Rear'!$A$1, MATCH(A12,'4S Rear'!$A$2:$A$16), 0, 2, 1)), OFFSET('4S Rear'!$A$1, MATCH(A12,'4S Rear'!$A$2:$A$16), 3, 1, 1)) -> 360 | D12: =IFERROR(FORECAST(B12, OFFSET('4S Front'!$A$1, MATCH(B12,'4S Front'!$A$2:$A$16), 3, 2, 1), OFFSET('4S Front'!$A$1, MATCH(B12,'4S Front'!$A$2:$A$16), 0, 2, 1)), OFFSET('4S Front'!$A$1, MATCH(B12,'4S Front'!$A$2:$A$16), 3, 1, 1)) -> 300 | E12: =$A12/119 -> 46.218487 | F12: =C12+D12 -> 660 | G12: 609.2 | H12: =($C12/1.356*$A12)/5252/0.986+($D12/1.356*$B12)/5252/0.986 -> 403.09203
A13: 6000 | B13: =A13/1.94 -> 3092.7835 | C13: =IFERROR(FORECAST(A13, OFFSET('4S Rear'!$A$1, MATCH(A13,'4S Rear'!$A$2:$A$16), 3, 2, 1), OFFSET('4S Rear'!$A$1, MATCH(A13,'4S Rear'!$A$2:$A$16), 0, 2, 1)), OFFSET('4S Rear'!$A$1, MATCH(A13,'4S Rear'!$A$2:$A$16), 3, 1, 1)) -> 360 | D13: =IFERROR(FORECAST(B13, OFFSET('4S Front'!$A$1, MATCH(B13,'4S Front'!$A$2:$A$16), 3, 2, 1), OFFSET('4S Front'!$A$1, MATCH(B13,'4S Front'!$A$2:$A$16), 0, 2, 1)), OFFSET('4S Front'!$A$1, MATCH(B13,'4S Front'!$A$2:$A$16), 3, 1, 1)) -> 300 | E13: =$A13/119 -> 50.420168 | F13: =C13+D13 -> 660 | G13: 557.6 | H13: =($C13/1.356*$A13)/5252/0.986+($D13/1.356*$B13)/5252/0.986 -> 439.73676
... A32: 16000 | B32: =A32/1.94 -> 8247.4227 | C32: =IFERROR(FORECAST(A32, OFFSET('4S Rear'!$A$1, MATCH(A32,'4S Rear'!$A$2:$A$16), 3, 2, 1), OFFSET('4S Rear'!$A$1, MATCH(A32,'4S Rear'!$A$2:$A$16), 0, 2, 1)), OFFSET('4S Rear'!$A$1, MATCH(A32,'4S Rear'!$A$2:$A$16), 3, 1, 1)) -> 195 | D32: =IFERROR(FORECAST(B32, OFFSET('4S Front'!$A$1, MATCH(B32,'4S Front'!$A$2:$A$16), 3, 2, 1), OFFSET('4S Front'!$A$1, MATCH(B32,'4S Front'!$A$2:$A$16), 0, 2, 1)), OFFSET('4S Front'!$A$1, MATCH(B32,'4S Front'!$A$2:$A$16), 3, 1, 1)) -> 229.09278 | E32: =$A32/119 -> 134.45378 | F32: =C32+D32 -> 424.09278 | G32: 209.6 | H32: =($C32/1.356*$A32)/5252/0.986+($D32/1.356*$B32)/5252/0.986 -> 713.38925

Sheet 4 1st
A1: RPM rear | B1: RPM front | C1: Rear max | D1: Front Max | E1: Speed | F1: Torque Max | G1: Torque | H1: Power Max
A2: 0 | B2: =A2/1.94 -> 0 | C2: =IFERROR(FORECAST(A2, OFFSET('4S Rear'!$A$1, MATCH(A2,'4S Rear'!$A$2:$A$16), 3, 2, 1), OFFSET('4S Rear'!$A$1, MATCH(A2,'4S Rear'!$A$2:$A$16), 0, 2, 1)), OFFSET('4S Rear'!$A$1, MATCH(A2,'4S Rear'!$A$2:$A$16), 3, 1, 1)) -> 360 | D2: =IFERROR(FORECAST(B2, OFFSET('4S Front'!$A$1, MATCH(B2,'4S Front'!$A$2:$A$16), 3, 2, 1), OFFSET('4S Front'!$A$1, MATCH(B2,'4S Front'!$A$2:$A$16), 0, 2, 1)), OFFSET('4S Front'!$A$1, MATCH(B2,'4S Front'!$A$2:$A$16), 3, 1, 1)) -> 300 | E2: =$A2/119 -> 0 | F2: =C2+D2 -> 660 | G2: 635.3 | H2: =($C2/1.356*$A2)/5252/0.986+($D2/1.356*$B2)/5252/0.986 -> 0
A3: 1000 | B3: =A3/1.94 -> 515.46392 | C3: =IFERROR(FORECAST(A3, OFFSET('4S Rear'!$A$1, MATCH(A3,'4S Rear'!$A$2:$A$16), 3, 2, 1), OFFSET('4S Rear'!$A$1, MATCH(A3,'4S Rear'!$A$2:$A$16), 0, 2, 1)), OFFSET('4S Rear'!$A$1, MATCH(A3,'4S Rear'!$A$2:$A$16), 3, 1, 1)) -> 360 | D3: =IFERROR(FORECAST(B3, OFFSET('4S Front'!$A$1, MATCH(B3,'4S Front'!$A$2:$A$16), 3, 2, 1), OFFSET('4S Front'!$A$1, MATCH(B3,'4S Front'!$A$2:$A$16), 0, 2, 1)), OFFSET('4S Front'!$A$1, MATCH(B3,'4S Front'!$A$2:$A$16), 3, 1, 1)) -> 300 | E3: =$A3/119 -> 8.4033613 | F3: =C3+D3 -> 660 | G3: 635.3 | H3: =($C3/1.356*$A3)/5252/0.986+($D3/1.356*$B3)/5252/0.986 -> 73.28946
A4: 1500 | B4: =A4/1.94 -> 773.19588 | C4: =IFERROR(FORECAST(A4, OFFSET('4S Rear'!$A$1, MATCH(A4,'4S Rear'!$A$2:$A$16), 3, 2, 1), OFFSET('4S Rear'!$A$1, MATCH(A4,'4S Rear'!$A$2:$A$16), 0, 2, 1)), OFFSET('4S Rear'!$A$1, MATCH(A4,'4S Rear'!$A$2:$A$16), 3, 1, 1)) -> 360 | D4: =IFERROR(FORECAST(B4, OFFSET('4S Front'!$A$1, MATCH(B4,'4S Front'!$A$2:$A$16), 3, 2, 1), OFFSET('4S Front'!$A$1, MATCH(B4,'4S Front'!$A$2:$A$16), 0, 2, 1)), OFFSET('4S Front'!$A$1, MATCH(B4,'4S Front'!$A$2:$A$16), 3, 1, 1)) -> 300 | E4: =$A4/119 -> 12.605042 | F4: =C4+D4 -> 660 | G4: 635.3 | H4: =($C4/1.356*$A4)/5252/0.986+($D4/1.356*$B4)/5252/0.986 -> 109.93419
A5: 2000 | B5: =A5/1.94 -> 1030.9278 | C5: =IFERROR(FORECAST(A5, OFFSET('4S Rear'!$A$1, MATCH(A5,'4S Rear'!$A$2:$A$16), 3, 2, 1), OFFSET('4S Rear'!$A$1, MATCH(A5,'4S Rear'!$A$2:$A$16), 0, 2, 1)), OFFSET('4S Rear'!$A$1, MATCH(A5,'4S Rear'!$A$2:$A$16), 3, 1, 1)) -> 360 | D5: =IFERROR(FORECAST(B5, OFFSET('4S Front'!$A$1, MATCH(B5,'4S Front'!$A$2:$A$16), 3, 2, 1), OFFSET('4S Front'!$A$1, MATCH(B5,'4S Front'!$A$2:$A$16), 0, 2, 1)), OFFSET('4S Front'!$A$1, MATCH(B5,'4S Front'!$A$2:$A$16), 3, 1, 1)) -> 300 | E5: =$A5/119 -> 16.806723 | F5: =C5+D5 -> 660 | G5: 635.3 | H5: =($C5/1.356*$A5)/5252/0.986+($D5/1.356*$B5)/5252/0.986 -> 146.57892
A6: 2500 | B6: =A6/1.94 -> 1288.6598 | C6: =IFERROR(FORECAST(A6, OFFSET('4S Rear'!$A$1, MATCH(A6,'4S Rear'!$A$2:$A$16), 3, 2, 1), OFFSET('4S Rear'!$A$1, MATCH(A6,'4S Rear'!$A$2:$A$16), 0, 2, 1)), OFFSET('4S Rear'!$A$1, MATCH(A6,'4S Rear'!$A$2:$A$16), 3, 1, 1)) -> 360 | D6: =IFERROR(FORECAST(B6, OFFSET('4S Front'!$A$1, MATCH(B6,'4S Front'!$A$2:$A$16), 3, 2, 1), OFFSET('4S Front'!$A$1, MATCH(B6,'4S Front'!$A$2:$A$16), 0, 2, 1)), OFFSET('4S Front'!$A$1, MATCH(B6,'4S Front'!$A$2:$A$16), 3, 1, 1)) -> 300 | E6: =$A6/119 -> 21.008403 | F6: =C6+D6 -> 660 | G6: 635.3 | H6: =($C6/1.356*$A6)/5252/0.986+($D6/1.356*$B6)/5252/0.986 -> 183.22365
A7: 3000 | B7: =A7/1.94 -> 1546.3918 | C7: =IFERROR(FORECAST(A7, OFFSET('4S Rear'!$A$1, MATCH(A7,'4S Rear'!$A$2:$A$16), 3, 2, 1), OFFSET('4S Rear'!$A$1, MATCH(A7,'4S Rear'!$A$2:$A$16), 0, 2, 1)), OFFSET('4S Rear'!$A$1, MATCH(A7,'4S Rear'!$A$2:$A$16), 3, 1, 1)) -> 360 | D7: =IFERROR(FORECAST(B7, OFFSET('4S Front'!$A$1, MATCH(B7,'4S Front'!$A$2:$A$16), 3, 2, 1), OFFSET('4S Front'!$A$1, MATCH(B7,'4S Front'!$A$2:$A$16), 0, 2, 1)), OFFSET('4S Front'!$A$1, MATCH(B7,'4S Front'!$A$2:$A$16), 3, 1, 1)) -> 300 | E7: =$A7/119 -> 25.210084 | F7: =C7+D7 -> 660 | G7: 635.3 | H7: =($C7/1.356*$A7)/5252/0.986+($D7/1.356*$B7)/5252/0.986 -> 219.86838
A8: 3500 | B8: =A8/1.94 -> 1804.1237 | C8: =IFERROR(FORECAST(A8, OFFSET('4S Rear'!$A$1, MATCH(A8,'4S Rear'!$A$2:$A$16), 3, 2, 1), OFFSET('4S Rear'!$A$1, MATCH(A8,'4S Rear'!$A$2:$A$16), 0, 2, 1)), OFFSET('4S Rear'!$A$1, MATCH(A8,'4S Rear'!$A$2:$A$16), 3, 1, 1)) -> 360 | D8: =IFERROR(FORECAST(B8, OFFSET('4S Front'!$A$1, MATCH(B8,'4S Front'!$A$2:$A$16), 3, 2, 1), OFFSET('4S Front'!$A$1, MATCH(B8,'4S Front'!$A$2:$A$16), 0, 2, 1)), OFFSET('4S Front'!$A$1, MATCH(B8,'4S Front'!$A$2:$A$16), 3, 1, 1)) -> 300 | E8: =$A8/119 -> 29.411765 | F8: =C8+D8 -> 660 | G8: 635.3 | H8: =($C8/1.356*$A8)/5252/0.986+($D8/1.356*$B8)/5252/0.986 -> 256.51311
A9: 4000 | B9: =A9/1.94 -> 2061.8557 | C9: =IFERROR(FORECAST(A9, OFFSET('4S Rear'!$A$1, MATCH(A9,'4S Rear'!$A$2:$A$16), 3, 2, 1), OFFSET('4S Rear'!$A$1, MATCH(A9,'4S Rear'!$A$2:$A$16), 0, 2, 1)), OFFSET('4S Rear'!$A$1, MATCH(A9,'4S Rear'!$A$2:$A$16), 3, 1, 1)) -> 360 | D9: =IFERROR(FORECAST(B9, OFFSET('4S Front'!$A$1, MATCH(B9,'4S Front'!$A$2:$A$16), 3, 2, 1), OFFSET('4S Front'!$A$1, MATCH(B9,'4S Front'!$A$2:$A$16), 0, 2, 1)), OFFSET('4S Front'!$A$1, MATCH(B9,'4S Front'!$A$2:$A$16), 3, 1, 1)) -> 300 | E9: =$A9/119 -> 33.613445 | F9: =C9+D9 -> 660 | G9: 635.3 | H9: =($C9/1.356*$A9)/5252/0.986+($D9/1.356*$B9)/5252/0.986 -> 293.15784
A10: 4500 | B10: =A10/1.94 -> 2319.5876 | C10: =IFERROR(FORECAST(A10, OFFSET('4S Rear'!$A$1, MATCH(A10,'4S Rear'!$A$2:$A$16), 3, 2, 1), OFFSET('4S Rear'!$A$1, MATCH(A10,'4S Rear'!$A$2:$A$16), 0, 2, 1)), OFFSET('4S Rear'!$A$1, MATCH(A10,'4S Rear'!$A$2:$A$16), 3, 1, 1)) -> 360 | D10: =IFERROR(FORECAST(B10, OFFSET('4S Front'!$A$1, MATCH(B10,'4S Front'!$A$2:$A$16), 3, 2, 1), OFFSET('4S Front'!$A$1, MATCH(B10,'4S Front'!$A$2:$A$16), 0, 2, 1)), OFFSET('4S Front'!$A$1, MATCH(B10,'4S Front'!$A$2:$A$16), 3, 1, 1)) -> 300 | E10: =$A10/119 -> 37.815126 | F10: =C10+D10 -> 660 | G10: 598.2 | H10: =($C10/1.356*$A10)/5252/0.986+($D10/1.356*$B10)/5252/0.986 -> 329.80257
A11: 5000 | B11: =A11/1.94 -> 2577.3196 | C11: =IFERROR(FORECAST(A11, OFFSET('4S Rear'!$A$1, MATCH(A11,'4S Rear'!$A$2:$A$16), 3, 2, 1), OFFSET('4S Rear'!$A$1, MATCH(A11,'4S Rear'!$A$2:$A$16), 0, 2, 1)), OFFSET('4S Rear'!$A$1, MATCH(A11,'4S Rear'!$A$2:$A$16), 3, 1, 1)) -> 360 | D11: =IFERROR(FORECAST(B11, OFFSET('4S Front'!$A$1, MATCH(B11,'4S Front'!$A$2:$A$16), 3, 2, 1), OFFSET('4S Front'!$A$1, MATCH(B11,'4S Front'!$A$2:$A$16), 0, 2, 1)), OFFSET('4S Front'!$A$1, MATCH(B11,'4S Front'!$A$2:$A$16), 3, 1, 1)) -> 300 | E11: =$A11/119 -> 42.016807 | F11: =C11+D11 -> 660 | G11: 537.1 | H11: =($C11/1.356*$A11)/5252/0.986+($D11/1.356*$B11)/5252/0.986 -> 366.4473
A12: 5500 | B12: =A12/1.94 -> 2835.0515 | C12: =IFERROR(FORECAST(A12, OFFSET('4S Rear'!$A$1, MATCH(A12,'4S Rear'!$A$2:$A$16), 3, 2, 1), OFFSET('4S Rear'!$A$1, MATCH(A12,'4S Rear'!$A$2:$A$16), 0, 2, 1)), OFFSET('4S Rear'!$A$1, MATCH(A12,'4S Rear'!$A$2:$A$16), 3, 1, 1)) -> 360 | D12: =IFERROR(FORECAST(B12, OFFSET('4S Front'!$A$1, MATCH(B12,'4S Front'!$A$2:$A$16), 3, 2, 1), OFFSET('4S Front'!$A$1, MATCH(B12,'4S Front'!$A$2:$A$16), 0, 2, 1)), OFFSET('4S Front'!$A$1, MATCH(B12,'4S Front'!$A$2:$A$16), 3, 1, 1)) -> 300 | E12: =$A12/119 -> 46.218487 | F12: =C12+D12 -> 660 | G12: 487.4 | H12: =($C12/1.356*$A12)/5252/0.986+($D12/1.356*$B12)/5252/0.986 -> 403.09203
A13: 6000 | B13: =A13/1.94 -> 3092.7835 | C13: =IFERROR(FORECAST(A13, OFFSET('4S Rear'!$A$1, MATCH(A13,'4S Rear'!$A$2:$A$16), 3, 2, 1), OFFSET('4S Rear'!$A$1, MATCH(A13,'4S Rear'!$A$2:$A$16), 0, 2, 1)), OFFSET('4S Rear'!$A$1, MATCH(A13,'4S Rear'!$A$2:$A$16), 3, 1, 1)) -> 360 | D13: =IFERROR(FORECAST(B13, OFFSET('4S Front'!$A$1, MATCH(B13,'4S Front'!$A$2:$A$16), 3, 2, 1), OFFSET('4S Front'!$A$1, MATCH(B13,'4S Front'!$A$2:$A$16), 0, 2, 1)), OFFSET('4S Front'!$A$1, MATCH(B13,'4S Front'!$A$2:$A$16), 3, 1, 1)) -> 300 | E13: =$A13/119 -> 50.420168 | F13: =C13+D13 -> 660 | G13: 446.1 | H13: =($C13/1.356*$A13)/5252/0.986+($D13/1.356*$B13)/5252/0.986 -> 439.73676
... A32: 16000 | B32: =A32/1.94 -> 8247.4227 | C32: =IFERROR(FORECAST(A32, OFFSET('4S Rear'!$A$1, MATCH(A32,'4S Rear'!$A$2:$A$16), 3, 2, 1), OFFSET('4S Rear'!$A$1, MATCH(A32,'4S Rear'!$A$2:$A$16), 0, 2, 1)), OFFSET('4S Rear'!$A$1, MATCH(A32,'4S Rear'!$A$2:$A$16), 3, 1, 1)) -> 195 | D32: =IFERROR(FORECAST(B32, OFFSET('4S Front'!$A$1, MATCH(B32,'4S Front'!$A$2:$A$16), 3, 2, 1), OFFSET('4S Front'!$A$1, MATCH(B32,'4S Front'!$A$2:$A$16), 0, 2, 1)), OFFSET('4S Front'!$A$1, MATCH(B32,'4S Front'!$A$2:$A$16), 3, 1, 1)) -> 229.09278 | E32: =$A32/119 -> 134.45378 | F32: =C32+D32 -> 424.09278 | G32: 167.6 | H32: =($C32/1.356*$A32)/5252/0.986+($D32/1.356*$B32)/5252/0.986 -> 713.38925

Sheet RWD PB+ 1st
A1: RPM rear | B1: RPM front | C1: Rear max | D1: Front Max | E1: Speed | F1: Torque Max | G1: Torque | H1: Power Max
A2: 0 | B2: =A2/1.94 -> 0 | C2: =IFERROR(FORECAST(A2, OFFSET('4S Rear'!$A$1, MATCH(A2,'4S Rear'!$A$2:$A$16), 3, 2, 1), OFFSET('4S Rear'!$A$1, MATCH(A2,'4S Rear'!$A$2:$A$16), 0, 2, 1)), OFFSET('4S Rear'!$A$1, MATCH(A2,'4S Rear'!$A$2:$A$16), 3, 1, 1)) -> 360 | D2: 0 | E2: =$A2/119 -> 0 | F2: =C2+D2 -> 360 | G2: 340 | H2: =($C2/1.356*$A2)/5252/0.986+($D2/1.356*$B2)/5252/0.986 -> 0
A3: 1000 | B3: =A3/1.94 -> 515.46392 | C3: =IFERROR(FORECAST(A3, OFFSET('4S Rear'!$A$1, MATCH(A3,'4S Rear'!$A$2:$A$16), 3, 2, 1), OFFSET('4S Rear'!$A$1, MATCH(A3,'4S Rear'!$A$2:$A$16), 0, 2, 1)), OFFSET('4S Rear'!$A$1, MATCH(A3,'4S Rear'!$A$2:$A$16), 3, 1, 1)) -> 360 | D3: 0 | E3: =$A3/119 -> 8.4033613 | F3: =C3+D3 -> 360 | G3: 340 | H3: =($C3/1.356*$A3)/5252/0.986+($D3/1.356*$B3)/5252/0.986 -> 51.267387
A4: 1500 | B4: =A4/1.94 -> 773.19588 | C4: =IFERROR(FORECAST(A4, OFFSET('4S Rear'!$A$1, MATCH(A4,'4S Rear'!$A$2:$A$16), 3, 2, 1), OFFSET('4S Rear'!$A$1, MATCH(A4,'4S Rear'!$A$2:$A$16), 0, 2, 1)), OFFSET('4S Rear'!$A$1, MATCH(A4,'4S Rear'!$A$2:$A$16), 3, 1, 1)) -> 360 | D4: 0 | E4: =$A4/119 -> 12.605042 | F4: =C4+D4 -> 360 | G4: 340 | H4: =($C4/1.356*$A4)/5252/0.986+($D4/1.356*$B4)/5252/0.986 -> 76.90108
A5: 2000 | B5: =A5/1.94 -> 1030.9278 | C5: =IFERROR(FORECAST(A5, OFFSET('4S Rear'!$A$1, MATCH(A5,'4S Rear'!$A$2:$A$16), 3, 2, 1), OFFSET('4S Rear'!$A$1, MATCH(A5,'4S Rear'!$A$2:$A$16), 0, 2, 1)), OFFSET('4S Rear'!$A$1, MATCH(A5,'4S Rear'!$A$2:$A$16), 3, 1, 1)) -> 360 | D5: 0 | E5: =$A5/119 -> 16.806723 | F5: =C5+D5 -> 360 | G5: 340 | H5: =($C5/1.356*$A5)/5252/0.986+($D5/1.356*$B5)/5252/0.986 -> 102.53477
A6: 2500 | B6: =A6/1.94 -> 1288.6598 | C6: =IFERROR(FORECAST(A6, OFFSET('4S Rear'!$A$1, MATCH(A6,'4S Rear'!$A$2:$A$16), 3, 2, 1), OFFSET('4S Rear'!$A$1, MATCH(A6,'4S Rear'!$A$2:$A$16), 0, 2, 1)), OFFSET('4S Rear'!$A$1, MATCH(A6,'4S Rear'!$A$2:$A$16), 3, 1, 1)) -> 360 | D6: 0 | E6: =$A6/119 -> 21.008403 | F6: =C6+D6 -> 360 | G6: 340 | H6: =($C6/1.356*$A6)/5252/0.986+($D6/1.356*$B6)/5252/0.986 -> 128.16847
A7: 3000 | B7: =A7/1.94 -> 1546.3918 | C7: =IFERROR(FORECAST(A7, OFFSET('4S Rear'!$A$1, MATCH(A7,'4S Rear'!$A$2:$A$16), 3, 2, 1), OFFSET('4S Rear'!$A$1, MATCH(A7,'4S Rear'!$A$2:$A$16), 0, 2, 1)), OFFSET('4S Rear'!$A$1, MATCH(A7,'4S Rear'!$A$2:$A$16), 3, 1, 1)) -> 360 | D7: 0 | E7: =$A7/119 -> 25.210084 | F7: =C7+D7 -> 360 | G7: 340 | H7: =($C7/1.356*$A7)/5252/0.986+($D7/1.356*$B7)/5252/0.986 -> 153.80216
A8: 3500 | B8: =A8/1.94 -> 1804.1237 | C8: =IFERROR(FORECAST(A8, OFFSET('4S Rear'!$A$1, MATCH(A8,'4S Rear'!$A$2:$A$16), 3, 2, 1), OFFSET('4S Rear'!$A$1, MATCH(A8,'4S Rear'!$A$2:$A$16), 0, 2, 1)), OFFSET('4S Rear'!$A$1, MATCH(A8,'4S Rear'!$A$2:$A$16), 3, 1, 1)) -> 360 | D8: 0 | E8: =$A8/119 -> 29.411765 | F8: =C8+D8 -> 360 | G8: 340 | H8: =($C8/1.356*$A8)/5252/0.986+($D8/1.356*$B8)/5252/0.986 -> 179.43585
A9: 4000 | B9: =A9/1.94 -> 2061.8557 | C9: =IFERROR(FORECAST(A9, OFFSET('4S Rear'!$A$1, MATCH(A9,'4S Rear'!$A$2:$A$16), 3, 2, 1), OFFSET('4S Rear'!$A$1, MATCH(A9,'4S Rear'!$A$2:$A$16), 0, 2, 1)), OFFSET('4S Rear'!$A$1, MATCH(A9,'4S Rear'!$A$2:$A$16), 3, 1, 1)) -> 360 | D9: 0 | E9: =$A9/119 -> 33.613445 | F9: =C9+D9 -> 360 | G9: 340 | H9: =($C9/1.356*$A9)/5252/0.986+($D9/1.356*$B9)/5252/0.986 -> 205.06955
A10: 4500 | B10: =A10/1.94 -> 2319.5876 | C10: =IFERROR(FORECAST(A10, OFFSET('4S Rear'!$A$1, MATCH(A10,'4S Rear'!$A$2:$A$16), 3, 2, 1), OFFSET('4S Rear'!$A$1, MATCH(A10,'4S Rear'!$A$2:$A$16), 0, 2, 1)), OFFSET('4S Rear'!$A$1, MATCH(A10,'4S Rear'!$A$2:$A$16), 3, 1, 1)) -> 360 | D10: 0 | E10: =$A10/119 -> 37.815126 | F10: =C10+D10 -> 360 | G10: 340 | H10: =($C10/1.356*$A10)/5252/0.986+($D10/1.356*$B10)/5252/0.986 -> 230.70324
A11: 5000 | B11: =A11/1.94 -> 2577.3196 | C11: =IFERROR(FORECAST(A11, OFFSET('4S Rear'!$A$1, MATCH(A11,'4S Rear'!$A$2:$A$16), 3, 2, 1), OFFSET('4S Rear'!$A$1, MATCH(A11,'4S Rear'!$A$2:$A$16), 0, 2, 1)), OFFSET('4S Rear'!$A$1, MATCH(A11,'4S Rear'!$A$2:$A$16), 3, 1, 1)) -> 360 | D11: 0 | E11: =$A11/119 -> 42.016807 | F11: =C11+D11 -> 360 | G11: 340 | H11: =($C11/1.356*$A11)/5252/0.986+($D11/1.356*$B11)/5252/0.986 -> 256.33693
A12: 5500 | B12: =A12/1.94 -> 2835.0515 | C12: =IFERROR(FORECAST(A12, OFFSET('4S Rear'!$A$1, MATCH(A12,'4S Rear'!$A$2:$A$16), 3, 2, 1), OFFSET('4S Rear'!$A$1, MATCH(A12,'4S Rear'!$A$2:$A$16), 0, 2, 1)), OFFSET('4S Rear'!$A$1, MATCH(A12,'4S Rear'!$A$2:$A$16), 3, 1, 1)) -> 360 | D12: 0 | E12: =$A12/119 -> 46.218487 | F12: =C12+D12 -> 360 | G12: 340 | H12: =($C12/1.356*$A12)/5252/0.986+($D12/1.356*$B12)/5252/0.986 -> 281.97063
A13: 6000 | B13: =A13/1.94 -> 3092.7835 | C13: =IFERROR(FORECAST(A13, OFFSET('4S Rear'!$A$1, MATCH(A13,'4S Rear'!$A$2:$A$16), 3, 2, 1), OFFSET('4S Rear'!$A$1, MATCH(A13,'4S Rear'!$A$2:$A$16), 0, 2, 1)), OFFSET('4S Rear'!$A$1, MATCH(A13,'4S Rear'!$A$2:$A$16), 3, 1, 1)) -> 360 | D13: 0 | E13: =$A13/119 -> 50.420168 | F13: =C13+D13 -> 360 | G13: 340 | H13: =($C13/1.356*$A13)/5252/0.986+($D13/1.356*$B13)/5252/0.986 -> 307.60432
... A32: 16000 | B32: =A32/1.94 -> 8247.4227 | C32: =IFERROR(FORECAST(A32, OFFSET('4S Rear'!$A$1, MATCH(A32,'4S Rear'!$A$2:$A$16), 3, 2, 1), OFFSET('4S Rear'!$A$1, MATCH(A32,'4S Rear'!$A$2:$A$16), 0, 2, 1)), OFFSET('4S Rear'!$A$1, MATCH(A32,'4S Rear'!$A$2:$A$16), 3, 1, 1)) -> 195 | D32: 0 | E32: =$A32/119 -> 134.45378 | F32: =C32+D32 -> 195 | G32: 167.6 | H32: =($C32/1.356*$A32)/5252/0.986+($D32/1.356*$B32)/5252/0.986 -> 444.31735

Sheet RWD PB 1st
A1: RPM rear | B1: RPM front | C1: Rear max | D1: Front Max | E1: Speed | F1: Torque Max | G1: Torque | H1: Power Max
A2: 0 | B2: =A2/1.94 -> 0 | C2: =IFERROR(FORECAST(A2, OFFSET('4S Rear'!$A$1, MATCH(A2,'4S Rear'!$A$2:$A$16), 3, 2, 1), OFFSET('4S Rear'!$A$1, MATCH(A2,'4S Rear'!$A$2:$A$16), 0, 2, 1)), OFFSET('4S Rear'!$A$1, MATCH(A2,'4S Rear'!$A$2:$A$16), 3, 1, 1)) -> 360 | D2: 0 | E2: =$A2/119 -> 0 | F2: =C2+D2 -> 360 | G2: 340 | H2: =($C2/1.356*$A2)/5252/0.986+($D2/1.356*$B2)/5252/0.986 -> 0
A3: 1000 | B3: =A3/1.94 -> 515.46392 | C3: =IFERROR(FORECAST(A3, OFFSET('4S Rear'!$A$1, MATCH(A3,'4S Rear'!$A$2:$A$16), 3, 2, 1), OFFSET('4S Rear'!$A$1, MATCH(A3,'4S Rear'!$A$2:$A$16), 0, 2, 1)), OFFSET('4S Rear'!$A$1, MATCH(A3,'4S Rear'!$A$2:$A$16), 3, 1, 1)) -> 360 | D3: 0 | E3: =$A3/119 -> 8.4033613 | F3: =C3+D3 -> 360 | G3: 340 | H3: =($C3/1.356*$A3)/5252/0.986+($D3/1.356*$B3)/5252/0.986 -> 51.267387
A4: 1500 | B4: =A4/1.94 -> 773.19588 | C4: =IFERROR(FORECAST(A4, OFFSET('4S Rear'!$A$1, MATCH(A4,'4S Rear'!$A$2:$A$16), 3, 2, 1), OFFSET('4S Rear'!$A$1, MATCH(A4,'4S Rear'!$A$2:$A$16), 0, 2, 1)), OFFSET('4S Rear'!$A$1, MATCH(A4,'4S Rear'!$A$2:$A$16), 3, 1, 1)) -> 360 | D4: 0 | E4: =$A4/119 -> 12.605042 | F4: =C4+D4 -> 360 | G4: 340 | H4: =($C4/1.356*$A4)/5252/0.986+($D4/1.356*$B4)/5252/0.986 -> 76.90108
A5: 2000 | B5: =A5/1.94 -> 1030.9278 | C5: =IFERROR(FORECAST(A5, OFFSET('4S Rear'!$A$1, MATCH(A5,'4S Rear'!$A$2:$A$16), 3, 2, 1), OFFSET('4S Rear'!$A$1, MATCH(A5,'4S Rear'!$A$2:$A$16), 0, 2, 1)), OFFSET('4S Rear'!$A$1, MATCH(A5,'4S Rear'!$A$2:$A$16), 3, 1, 1)) -> 360 | D5: 0 | E5: =$A5/119 -> 16.806723 | F5: =C5+D5 -> 360 | G5: 340 | H5: =($C5/1.356*$A5)/5252/0.986+($D5/1.356*$B5)/5252/0.986 -> 102.53477
A6: 2500 | B6: =A6/1.94 -> 1288.6598 | C6: =IFERROR(FORECAST(A6, OFFSET('4S Rear'!$A$1, MATCH(A6,'4S Rear'!$A$2:$A$16), 3, 2, 1), OFFSET('4S Rear'!$A$1, MATCH(A6,'4S Rear'!$A$2:$A$16), 0, 2, 1)), OFFSET('4S Rear'!$A$1, MATCH(A6,'4S Rear'!$A$2:$A$16), 3, 1, 1)) -> 360 | D6: 0 | E6: =$A6/119 -> 21.008403 | F6: =C6+D6 -> 360 | G6: 340 | H6: =($C6/1.356*$A6)/5252/0.986+($D6/1.356*$B6)/5252/0.986 -> 128.16847
A7: 3000 | B7: =A7/1.94 -> 1546.3918 | C7: =IFERROR(FORECAST(A7, OFFSET('4S Rear'!$A$1, MATCH(A7,'4S Rear'!$A$2:$A$16), 3, 2, 1), OFFSET('4S Rear'!$A$1, MATCH(A7,'4S Rear'!$A$2:$A$16), 0, 2, 1)), OFFSET('4S Rear'!$A$1, MATCH(A7,'4S Rear'!$A$2:$A$16), 3, 1, 1)) -> 360 | D7: 0 | E7: =$A7/119 -> 25.210084 | F7: =C7+D7 -> 360 | G7: 340 | H7: =($C7/1.356*$A7)/5252/0.986+($D7/1.356*$B7)/5252/0.986 -> 153.80216
A8: 3500 | B8: =A8/1.94 -> 1804.1237 | C8: =IFERROR(FORECAST(A8, OFFSET('4S Rear'!$A$1, MATCH(A8,'4S Rear'!$A$2:$A$16), 3, 2, 1), OFFSET('4S Rear'!$A$1, MATCH(A8,'4S Rear'!$A$2:$A$16), 0, 2, 1)), OFFSET('4S Rear'!$A$1, MATCH(A8,'4S Rear'!$A$2:$A$16), 3, 1, 1)) -> 360 | D8: 0 | E8: =$A8/119 -> 29.411765 | F8: =C8+D8 -> 360 | G8: 340 | H8: =($C8/1.356*$A8)/5252/0.986+($D8/1.356*$B8)/5252/0.986 -> 179.43585
A9: 4000 | B9: =A9/1.94 -> 2061.8557 | C9: =IFERROR(FORECAST(A9, OFFSET('4S Rear'!$A$1, MATCH(A9,'4S Rear'!$A$2:$A$16), 3, 2, 1), OFFSET('4S Rear'!$A$1, MATCH(A9,'4S Rear'!$A$2:$A$16), 0, 2, 1)), OFFSET('4S Rear'!$A$1, MATCH(A9,'4S Rear'!$A$2:$A$16), 3, 1, 1)) -> 360 | D9: 0 | E9: =$A9/119 -> 33.613445 | F9: =C9+D9 -> 360 | G9: 340 | H9: =($C9/1.356*$A9)/5252/0.986+($D9/1.356*$B9)/5252/0.986 -> 205.06955
A10: 4500 | B10: =A10/1.94 -> 2319.5876 | C10: =IFERROR(FORECAST(A10, OFFSET('4S Rear'!$A$1, MATCH(A10,'4S Rear'!$A$2:$A$16), 3, 2, 1), OFFSET('4S Rear'!$A$1, MATCH(A10,'4S Rear'!$A$2:$A$16), 0, 2, 1)), OFFSET('4S Rear'!$A$1, MATCH(A10,'4S Rear'!$A$2:$A$16), 3, 1, 1)) -> 360 | D10: 0 | E10: =$A10/119 -> 37.815126 | F10: =C10+D10 -> 360 | G10: 340 | H10: =($C10/1.356*$A10)/5252/0.986+($D10/1.356*$B10)/5252/0.986 -> 230.70324
A11: 5000 | B11: =A11/1.94 -> 2577.3196 | C11: =IFERROR(FORECAST(A11, OFFSET('4S Rear'!$A$1, MATCH(A11,'4S Rear'!$A$2:$A$16), 3, 2, 1), OFFSET('4S Rear'!$A$1, MATCH(A11,'4S Rear'!$A$2:$A$16), 0, 2, 1)), OFFSET('4S Rear'!$A$1, MATCH(A11,'4S Rear'!$A$2:$A$16), 3, 1, 1)) -> 360 | D11: 0 | E11: =$A11/119 -> 42.016807 | F11: =C11+D11 -> 360 | G11: 340 | H11: =($C11/1.356*$A11)/5252/0.986+($D11/1.356*$B11)/5252/0.986 -> 256.33693
A12: 5500 | B12: =A12/1.94 -> 2835.0515 | C12: =IFERROR(FORECAST(A12, OFFSET('4S Rear'!$A$1, MATCH(A12,'4S Rear'!$A$2:$A$16), 3, 2, 1), OFFSET('4S Rear'!$A$1, MATCH(A12,'4S Rear'!$A$2:$A$16), 0, 2, 1)), OFFSET('4S Rear'!$A$1, MATCH(A12,'4S Rear'!$A$2:$A$16), 3, 1, 1)) -> 360 | D12: 0 | E12: =$A12/119 -> 46.218487 | F12: =C12+D12 -> 360 | G12: 340 | H12: =($C12/1.356*$A12)/5252/0.986+($D12/1.356*$B12)/5252/0.986 -> 281.97063
A13: 6000 | B13: =A13/1.94 -> 3092.7835 | C13: =IFERROR(FORECAST(A13, OFFSET('4S Rear'!$A$1, MATCH(A13,'4S Rear'!$A$2:$A$16), 3, 2, 1), OFFSET('4S Rear'!$A$1, MATCH(A13,'4S Rear'!$A$2:$A$16), 0, 2, 1)), OFFSET('4S Rear'!$A$1, MATCH(A13,'4S Rear'!$A$2:$A$16), 3, 1, 1)) -> 360 | D13: 0 | E13: =$A13/119 -> 50.420168 | F13: =C13+D13 -> 360 | G13: 340 | H13: =($C13/1.356*$A13)/5252/0.986+($D13/1.356*$B13)/5252/0.986 -> 307.60432
... A32: 16000 | B32: =A32/1.94 -> 8247.4227 | C32: =IFERROR(FORECAST(A32, OFFSET('4S Rear'!$A$1, MATCH(A32,'4S Rear'!$A$2:$A$16), 3, 2, 1), OFFSET('4S Rear'!$A$1, MATCH(A32,'4S Rear'!$A$2:$A$16), 0, 2, 1)), OFFSET('4S Rear'!$A$1, MATCH(A32,'4S Rear'!$A$2:$A$16), 3, 1, 1)) -> 195 | D32: 0 | E32: =$A32/119 -> 134.45378 | F32: =C32+D32 -> 195 | G32: 143.7 | H32: =($C32/1.356*$A32)/5252/0.986+($D32/1.356*$B32)/5252/0.986 -> 444.31735

Sheet 4S Small Front
A1: RPM | B1: Nm | C1: PS | D1: Nm (Launch) | E1: PS (Launch)
A2: 0 | B2: 300 | C2: =(B2/1.356*A2)/5252/0.986 -> 0 | D2: 300 | E2: =(D2/1.356*A2)/5252/0.986 -> 0
A3: 1000 | B3: 300 | C3: =(B3/1.356*A3)/5252/0.986 -> 42.722822 | D3: 300 | E3: =(D3/1.356*A3)/5252/0.986 -> 42.722822
A4: 3250 | B4: 300 | C4: =(B4/1.356*A4)/5252/0.986 -> 138.84917 | D4: 300 | E4: =(D4/1.356*A4)/5252/0.986 -> 138.84917
A5: 3850 | B5: 300 | C5: =(B5/1.356*A5)/5252/0.986 -> 164.48287 | D5: 300 | E5: =(D5/1.356*A5)/5252/0.986 -> 164.48287
A6: 5000 | B6: 300 | C6: =(B6/1.356*A6)/5252/0.986 -> 213.61411 | D6: 300 | E6: =(D6/1.356*A6)/5252/0.986 -> 213.61411
A7: 5600 | B7: 270 | C7: =(B7/1.356*A7)/5252/0.986 -> 215.32302 | D7: 270 | E7: =(D7/1.356*A7)/5252/0.986 -> 215.32302
A8: 6000 | B8: 254 | C8: =(B8/1.356*A8)/5252/0.986 -> 217.03194 | D8: 254 | E8: =(D8/1.356*A8)/5252/0.986 -> 217.03194
A9: 6200 | B9: 246 | C9: =(B9/1.356*A9)/5252/0.986 -> 217.20283 | D9: 246 | E9: =(D9/1.356*A9)/5252/0.986 -> 217.20283
A10: 7000 | B10: 221 | C10: =(B10/1.356*A10)/5252/0.986 -> 220.30735 | D10: 221 | E10: =(D10/1.356*A10)/5252/0.986 -> 220.30735
A11: 8000 | B11: 191 | C11: =(B11/1.356*A11)/5252/0.986 -> 217.60157 | D11: 191 | E11: =(D11/1.356*A11)/5252/0.986 -> 217.60157
A12: 9000 | B12: 162 | C12: =(B12/1.356*A12)/5252/0.986 -> 207.63292 | D12: 162 | E12: =(D12/1.356*A12)/5252/0.986 -> 207.63292
A13: 10000 | B13: 141 | C13: =(B13/1.356*A13)/5252/0.986 -> 200.79726 | D13: 141 | E13: =(D13/1.356*A13)/5252/0.986 -> 200.79726
... A16: 16000 | B16: 70 | C16: =(B16/1.356*A16)/5252/0.986 -> 159.49854 | D16: 70 | E16: =(D16/1.356*A16)/5252/0.986 -> 159.49854

Sheet 4S Small Rear
A1: RPM | B1: Nm | C1: PS | D1: Nm (Launch) | E1: PS (Launch)
A2: 0 | B2: 340 | C2: =(B2/1.356*$A2)/5252/0.986 -> 0 | D2: 360 | E2: =(D2/1.356*$A2)/5252/0.986 -> 0
A3: 1000 | B3: 340 | C3: =(B3/1.356*$A3)/5252/0.986 -> 48.419198 | D3: 360 | E3: =(D3/1.356*$A3)/5252/0.986 -> 51.267387
A4: 3250 | B4: 340 | C4: =(B4/1.356*$A4)/5252/0.986 -> 157.36239 | D4: 360 | E4: =(D4/1.356*$A4)/5252/0.986 -> 166.61901
A5: 3850 | B5: 340 | C5: =(B5/1.356*$A5)/5252/0.986 -> 186.41391 | D5: 360 | E5: =(D5/1.356*$A5)/5252/0.986 -> 197.37944
A6: 5000 | B6: 340 | C6: =(B6/1.356*$A6)/5252/0.986 -> 242.09599 | D6: 360 | E6: =(D6/1.356*$A6)/5252/0.986 -> 256.33693
A7: 5600 | B7: 340 | C7: =(B7/1.356*$A7)/5252/0.986 -> 271.14751 | D7: 360 | E7: =(D7/1.356*$A7)/5252/0.986 -> 287.09736
A8: 6000 | B8: 340 | C8: =(B8/1.356*$A8)/5252/0.986 -> 290.51519 | D8: 360 | E8: =(D8/1.356*$A8)/5252/0.986 -> 307.60432
A9: 6200 | B9: 340 | C9: =(B9/1.356*$A9)/5252/0.986 -> 300.19903 | D9: 360 | E9: =(D9/1.356*$A9)/5252/0.986 -> 317.8578
A10: 7000 | B10: 340 | C10: =(B10/1.356*$A10)/5252/0.986 -> 338.93439 | D10: 360 | E10: =(D10/1.356*$A10)/5252/0.986 -> 358.87171
A11: 8000 | B11: 340 | C11: =(B11/1.356*$A11)/5252/0.986 -> 387.35359 | D11: 360 | E11: =(D11/1.356*$A11)/5252/0.986 -> 410.13909
A12: 9000 | B12: 322 | C12: =(B12/1.356*$A12)/5252/0.986 -> 412.70246 | D12: 322 | E12: =(D12/1.356*$A12)/5252/0.986 -> 412.70246
A13: 10000 | B13: 288 | C13: =(B13/1.356*$A13)/5252/0.986 -> 410.13909 | D13: 288 | E13: =(D13/1.356*$A13)/5252/0.986 -> 410.13909
... A16: 16000 | B16: 151 | C16: =(B16/1.356*$A16)/5252/0.986 -> 344.06113 | D16: 151 | E16: =(D16/1.356*$A16)/5252/0.986 -> 344.06113

Sheet 4S Small Total
A1: RPM | B1: Nm | C1: PS | D1: Nm (Launch) | E1: PS (Launch)
A2: ='4S Small Front'!A2 -> 0 | B2: ='4S Small Front'!B2 + '4S Small Rear'!B2 -> 640 | C2: ='4S Small Front'!C2 + '4S Small Rear'!C2 -> 0 | D2: ='4S Small Front'!D2 + '4S Small Rear'!D2 -> 660 | E2: ='4S Small Front'!E2 + '4S Small Rear'!E2 -> 0
A3: ='4S Small Front'!A3 -> 1000 | B3: ='4S Small Front'!B3 + '4S Small Rear'!B3 -> 640 | C3: ='4S Small Front'!C3 + '4S Small Rear'!C3 -> 91.14202 | D3: ='4S Small Front'!D3 + '4S Small Rear'!D3 -> 660 | E3: ='4S Small Front'!E3 + '4S Small Rear'!E3 -> 93.990209
A4: ='4S Small Front'!A4 -> 3250 | B4: ='4S Small Front'!B4 + '4S Small Rear'!B4 -> 640 | C4: ='4S Small Front'!C4 + '4S Small Rear'!C4 -> 296.21157 | D4: ='4S Small Front'!D4 + '4S Small Rear'!D4 -> 660 | E4: ='4S Small Front'!E4 + '4S Small Rear'!E4 -> 305.46818
A5: ='4S Small Front'!A5 -> 3850 | B5: ='4S Small Front'!B5 + '4S Small Rear'!B5 -> 640 | C5: ='4S Small Front'!C5 + '4S Small Rear'!C5 -> 350.89678 | D5: ='4S Small Front'!D5 + '4S Small Rear'!D5 -> 660 | E5: ='4S Small Front'!E5 + '4S Small Rear'!E5 -> 361.8623
A6: ='4S Small Front'!A6 -> 5000 | B6: ='4S Small Front'!B6 + '4S Small Rear'!B6 -> 640 | C6: ='4S Small Front'!C6 + '4S Small Rear'!C6 -> 455.7101 | D6: ='4S Small Front'!D6 + '4S Small Rear'!D6 -> 660 | E6: ='4S Small Front'!E6 + '4S Small Rear'!E6 -> 469.95104
A7: ='4S Small Front'!A7 -> 5600 | B7: ='4S Small Front'!B7 + '4S Small Rear'!B7 -> 610 | C7: ='4S Small Front'!C7 + '4S Small Rear'!C7 -> 486.47053 | D7: ='4S Small Front'!D7 + '4S Small Rear'!D7 -> 630 | E7: ='4S Small Front'!E7 + '4S Small Rear'!E7 -> 502.42039
A8: ='4S Small Front'!A8 -> 6000 | B8: ='4S Small Front'!B8 + '4S Small Rear'!B8 -> 594 | C8: ='4S Small Front'!C8 + '4S Small Rear'!C8 -> 507.54713 | D8: ='4S Small Front'!D8 + '4S Small Rear'!D8 -> 614 | E8: ='4S Small Front'!E8 + '4S Small Rear'!E8 -> 524.63626
A9: ='4S Small Front'!A9 -> 6200 | B9: ='4S Small Front'!B9 + '4S Small Rear'!B9 -> 586 | C9: ='4S Small Front'!C9 + '4S Small Rear'!C9 -> 517.40186 | D9: ='4S Small Front'!D9 + '4S Small Rear'!D9 -> 606 | E9: ='4S Small Front'!E9 + '4S Small Rear'!E9 -> 535.06062
A10: ='4S Small Front'!A10 -> 7000 | B10: ='4S Small Front'!B10 + '4S Small Rear'!B10 -> 561 | C10: ='4S Small Front'!C10 + '4S Small Rear'!C10 -> 559.24174 | D10: ='4S Small Front'!D10 + '4S Small Rear'!D10 -> 581 | E10: ='4S Small Front'!E10 + '4S Small Rear'!E10 -> 579.17906
A11: ='4S Small Front'!A11 -> 8000 | B11: ='4S Small Front'!B11 + '4S Small Rear'!B11 -> 531 | C11: ='4S Small Front'!C11 + '4S Small Rear'!C11 -> 604.95516 | D11: ='4S Small Front'!D11 + '4S Small Rear'!D11 -> 551 | E11: ='4S Small Front'!E11 + '4S Small Rear'!E11 -> 627.74067
A12: ='4S Small Front'!A12 -> 9000 | B12: ='4S Small Front'!B12 + '4S Small Rear'!B12 -> 484 | C12: ='4S Small Front'!C12 + '4S Small Rear'!C12 -> 620.33538 | D12: ='4S Small Front'!D12 + '4S Small Rear'!D12 -> 484 | E12: ='4S Small Front'!E12 + '4S Small Rear'!E12 -> 620.33538
A13: ='4S Small Front'!A13 -> 10000 | B13: ='4S Small Front'!B13 + '4S Small Rear'!B13 -> 429 | C13: ='4S Small Front'!C13 + '4S Small Rear'!C13 -> 610.93636 | D13: ='4S Small Front'!D13 + '4S Small Rear'!D13 -> 429 | E13: ='4S Small Front'!E13 + '4S Small Rear'!E13 -> 610.93636
... A16: ='4S Small Front'!A16 -> 16000 | B16: ='4S Small Front'!B16 + '4S Small Rear'!B16 -> 221 | C16: ='4S Small Front'!C16 + '4S Small Rear'!C16 -> 503.55966 | D16: ='4S Small Front'!D16 + '4S Small Rear'!D16 -> 221 | E16: ='4S Small Front'!E16 + '4S Small Rear'!E16 -> 503.55966

Sheet 4S Small 1st
A1: RPM rear | B1: RPM front | C1: Rear max | D1: Front Max | E1: Speed | F1: Torque Max | G1: Torque | H1: Power Max
A2: 0 | B2: =A2/1.94 -> 0 | C2: =IFERROR(FORECAST(A2, OFFSET('4S Small Rear'!$A$1, MATCH(A2,'4S Small Rear'!$A$2:$A$16), 3, 2, 1), OFFSET('4S Small Rear'!$A$1, MATCH(A2,'4S Small Rear'!$A$2:$A$16), 0, 2, 1)), OFFSET('4S Small Rear'!$A$1, MATCH(A2,'4S Small Rear'!$A$2:$A$16), 3, 1, 1)) -> 360 | D2: =IFERROR(FORECAST(B2, OFFSET('4S Small Front'!$A$1, MATCH(B2,'4S Small Front'!$A$2:$A$16), 3, 2, 1), OFFSET('4S Small Front'!$A$1, MATCH(B2,'4S Small Front'!$A$2:$A$16), 0, 2, 1)), OFFSET('4S Small Front'!$A$1, MATCH(B2,'4S Small Front'!$A$2:$A$16), 3, 1, 1)) -> 300 | E2: =$A2/119 -> 0 | F2: =C2+D2 -> 660 | G2: 635.3 | H2: =($C2/1.356*$A2)/5252/0.986+($D2/1.356*$B2)/5252/0.986 -> 0
A3: 1000 | B3: =A3/1.94 -> 515.46392 | C3: =IFERROR(FORECAST(A3, OFFSET('4S Small Rear'!$A$1, MATCH(A3,'4S Small Rear'!$A$2:$A$16), 3, 2, 1), OFFSET('4S Small Rear'!$A$1, MATCH(A3,'4S Small Rear'!$A$2:$A$16), 0, 2, 1)), OFFSET('4S Small Rear'!$A$1, MATCH(A3,'4S Small Rear'!$A$2:$A$16), 3, 1, 1)) -> 360 | D3: =IFERROR(FORECAST(B3, OFFSET('4S Small Front'!$A$1, MATCH(B3,'4S Small Front'!$A$2:$A$16), 3, 2, 1), OFFSET('4S Small Front'!$A$1, MATCH(B3,'4S Small Front'!$A$2:$A$16), 0, 2, 1)), OFFSET('4S Small Front'!$A$1, MATCH(B3,'4S Small Front'!$A$2:$A$16), 3, 1, 1)) -> 300 | E3: =$A3/119 -> 8.4033613 | F3: =C3+D3 -> 660 | G3: 635.3 | H3: =($C3/1.356*$A3)/5252/0.986+($D3/1.356*$B3)/5252/0.986 -> 73.28946
A4: 1500 | B4: =A4/1.94 -> 773.19588 | C4: =IFERROR(FORECAST(A4, OFFSET('4S Small Rear'!$A$1, MATCH(A4,'4S Small Rear'!$A$2:$A$16), 3, 2, 1), OFFSET('4S Small Rear'!$A$1, MATCH(A4,'4S Small Rear'!$A$2:$A$16), 0, 2, 1)), OFFSET('4S Small Rear'!$A$1, MATCH(A4,'4S Small Rear'!$A$2:$A$16), 3, 1, 1)) -> 360 | D4: =IFERROR(FORECAST(B4, OFFSET('4S Small Front'!$A$1, MATCH(B4,'4S Small Front'!$A$2:$A$16), 3, 2, 1), OFFSET('4S Small Front'!$A$1, MATCH(B4,'4S Small Front'!$A$2:$A$16), 0, 2, 1)), OFFSET('4S Small Front'!$A$1, MATCH(B4,'4S Small Front'!$A$2:$A$16), 3, 1, 1)) -> 300 | E4: =$A4/119 -> 12.605042 | F4: =C4+D4 -> 660 | G4: 635.3 | H4: =($C4/1.356*$A4)/5252/0.986+($D4/1.356*$B4)/5252/0.986 -> 109.93419
A5: 2000 | B5: =A5/1.94 -> 1030.9278 | C5: =IFERROR(FORECAST(A5, OFFSET('4S Small Rear'!$A$1, MATCH(A5,'4S Small Rear'!$A$2:$A$16), 3, 2, 1), OFFSET('4S Small Rear'!$A$1, MATCH(A5,'4S Small Rear'!$A$2:$A$16), 0, 2, 1)), OFFSET('4S Small Rear'!$A$1, MATCH(A5,'4S Small Rear'!$A$2:$A$16), 3, 1, 1)) -> 360 | D5: =IFERROR(FORECAST(B5, OFFSET('4S Small Front'!$A$1, MATCH(B5,'4S Small Front'!$A$2:$A$16), 3, 2, 1), OFFSET('4S Small Front'!$A$1, MATCH(B5,'4S Small Front'!$A$2:$A$16), 0, 2, 1)), OFFSET('4S Small Front'!$A$1, MATCH(B5,'4S Small Front'!$A$2:$A$16), 3, 1, 1)) -> 300 | E5: =$A5/119 -> 16.806723 | F5: =C5+D5 -> 660 | G5: 635.3 | H5: =($C5/1.356*$A5)/5252/0.986+($D5/1.356*$B5)/5252/0.986 -> 146.57892
A6: 2500 | B6: =A6/1.94 -> 1288.6598 | C6: =IFERROR(FORECAST(A6, OFFSET('4S Small Rear'!$A$1, MATCH(A6,'4S Small Rear'!$A$2:$A$16), 3, 2, 1), OFFSET('4S Small Rear'!$A$1, MATCH(A6,'4S Small Rear'!$A$2:$A$16), 0, 2, 1)), OFFSET('4S Small Rear'!$A$1, MATCH(A6,'4S Small Rear'!$A$2:$A$16), 3, 1, 1)) -> 360 | D6: =IFERROR(FORECAST(B6, OFFSET('4S Small Front'!$A$1, MATCH(B6,'4S Small Front'!$A$2:$A$16), 3, 2, 1), OFFSET('4S Small Front'!$A$1, MATCH(B6,'4S Small Front'!$A$2:$A$16), 0, 2, 1)), OFFSET('4S Small Front'!$A$1, MATCH(B6,'4S Small Front'!$A$2:$A$16), 3, 1, 1)) -> 300 | E6: =$A6/119 -> 21.008403 | F6: =C6+D6 -> 660 | G6: 635.3 | H6: =($C6/1.356*$A6)/5252/0.986+($D6/1.356*$B6)/5252/0.986 -> 183.22365
A7: 3000 | B7: =A7/1.94 -> 1546.3918 | C7: =IFERROR(FORECAST(A7, OFFSET('4S Small Rear'!$A$1, MATCH(A7,'4S Small Rear'!$A$2:$A$16), 3, 2, 1), OFFSET('4S Small Rear'!$A$1, MATCH(A7,'4S Small Rear'!$A$2:$A$16), 0, 2, 1)), OFFSET('4S Small Rear'!$A$1, MATCH(A7,'4S Small Rear'!$A$2:$A$16), 3, 1, 1)) -> 360 | D7: =IFERROR(FORECAST(B7, OFFSET('4S Small Front'!$A$1, MATCH(B7,'4S Small Front'!$A$2:$A$16), 3, 2, 1), OFFSET('4S Small Front'!$A$1, MATCH(B7,'4S Small Front'!$A$2:$A$16), 0, 2, 1)), OFFSET('4S Small Front'!$A$1, MATCH(B7,'4S Small Front'!$A$2:$A$16), 3, 1, 1)) -> 300 | E7: =$A7/119 -> 25.210084 | F7: =C7+D7 -> 660 | G7: 635.3 | H7: =($C7/1.356*$A7)/5252/0.986+($D7/1.356*$B7)/5252/0.986 -> 219.86838
A8: 3500 | B8: =A8/1.94 -> 1804.1237 | C8: =IFERROR(FORECAST(A8, OFFSET('4S Small Rear'!$A$1, MATCH(A8,'4S Small Rear'!$A$2:$A$16), 3, 2, 1), OFFSET('4S Small Rear'!$A$1, MATCH(A8,'4S Small Rear'!$A$2:$A$16), 0, 2, 1)), OFFSET('4S Small Rear'!$A$1, MATCH(A8,'4S Small Rear'!$A$2:$A$16), 3, 1, 1)) -> 360 | D8: =IFERROR(FORECAST(B8, OFFSET('4S Small Front'!$A$1, MATCH(B8,'4S Small Front'!$A$2:$A$16), 3, 2, 1), OFFSET('4S Small Front'!$A$1, MATCH(B8,'4S Small Front'!$A$2:$A$16), 0, 2, 1)), OFFSET('4S Small Front'!$A$1, MATCH(B8,'4S Small Front'!$A$2:$A$16), 3, 1, 1)) -> 300 | E8: =$A8/119 -> 29.411765 | F8: =C8+D8 -> 660 | G8: 635.3 | H8: =($C8/1.356*$A8)/5252/0.986+($D8/1.356*$B8)/5252/0.986 -> 256.51311
A9: 4000 | B9: =A9/1.94 -> 2061.8557 | C9: =IFERROR(FORECAST(A9, OFFSET('4S Small Rear'!$A$1, MATCH(A9,'4S Small Rear'!$A$2:$A$16), 3, 2, 1), OFFSET('4S Small Rear'!$A$1, MATCH(A9,'4S Small Rear'!$A$2:$A$16), 0, 2, 1)), OFFSET('4S Small Rear'!$A$1, MATCH(A9,'4S Small Rear'!$A$2:$A$16), 3, 1, 1)) -> 360 | D9: =IFERROR(FORECAST(B9, OFFSET('4S Small Front'!$A$1, MATCH(B9,'4S Small Front'!$A$2:$A$16), 3, 2, 1), OFFSET('4S Small Front'!$A$1, MATCH(B9,'4S Small Front'!$A$2:$A$16), 0, 2, 1)), OFFSET('4S Small Front'!$A$1, MATCH(B9,'4S Small Front'!$A$2:$A$16), 3, 1, 1)) -> 300 | E9: =$A9/119 -> 33.613445 | F9: =C9+D9 -> 660 | G9: 635.3 | H9: =($C9/1.356*$A9)/5252/0.986+($D9/1.356*$B9)/5252/0.986 -> 293.15784
A10: 4500 | B10: =A10/1.94 -> 2319.5876 | C10: =IFERROR(FORECAST(A10, OFFSET('4S Small Rear'!$A$1, MATCH(A10,'4S Small Rear'!$A$2:$A$16), 3, 2, 1), OFFSET('4S Small Rear'!$A$1, MATCH(A10,'4S Small Rear'!$A$2:$A$16), 0, 2, 1)), OFFSET('4S Small Rear'!$A$1, MATCH(A10,'4S Small Rear'!$A$2:$A$16), 3, 1, 1)) -> 360 | D10: =IFERROR(FORECAST(B10, OFFSET('4S Small Front'!$A$1, MATCH(B10,'4S Small Front'!$A$2:$A$16), 3, 2, 1), OFFSET('4S Small Front'!$A$1, MATCH(B10,'4S Small Front'!$A$2:$A$16), 0, 2, 1)), OFFSET('4S Small Front'!$A$1, MATCH(B10,'4S Small Front'!$A$2:$A$16), 3, 1, 1)) -> 300 | E10: =$A10/119 -> 37.815126 | F10: =C10+D10 -> 660 | G10: 635.3 | H10: =($C10/1.356*$A10)/5252/0.986+($D10/1.356*$B10)/5252/0.986 -> 329.80257
A11: 5000 | B11: =A11/1.94 -> 2577.3196 | C11: =IFERROR(FORECAST(A11, OFFSET('4S Small Rear'!$A$1, MATCH(A11,'4S Small Rear'!$A$2:$A$16), 3, 2, 1), OFFSET('4S Small Rear'!$A$1, MATCH(A11,'4S Small Rear'!$A$2:$A$16), 0, 2, 1)), OFFSET('4S Small Rear'!$A$1, MATCH(A11,'4S Small Rear'!$A$2:$A$16), 3, 1, 1)) -> 360 | D11: =IFERROR(FORECAST(B11, OFFSET('4S Small Front'!$A$1, MATCH(B11,'4S Small Front'!$A$2:$A$16), 3, 2, 1), OFFSET('4S Small Front'!$A$1, MATCH(B11,'4S Small Front'!$A$2:$A$16), 0, 2, 1)), OFFSET('4S Small Front'!$A$1, MATCH(B11,'4S Small Front'!$A$2:$A$16), 3, 1, 1)) -> 300 | E11: =$A11/119 -> 42.016807 | F11: =C11+D11 -> 660 | G11: 635.3 | H11: =($C11/1.356*$A11)/5252/0.986+($D11/1.356*$B11)/5252/0.986 -> 366.4473
A12: 5500 | B12: =A12/1.94 -> 2835.0515 | C12: =IFERROR(FORECAST(A12, OFFSET('4S Small Rear'!$A$1, MATCH(A12,'4S Small Rear'!$A$2:$A$16), 3, 2, 1), OFFSET('4S Small Rear'!$A$1, MATCH(A12,'4S Small Rear'!$A$2:$A$16), 0, 2, 1)), OFFSET('4S Small Rear'!$A$1, MATCH(A12,'4S Small Rear'!$A$2:$A$16), 3, 1, 1)) -> 360 | D12: =IFERROR(FORECAST(B12, OFFSET('4S Small Front'!$A$1, MATCH(B12,'4S Small Front'!$A$2:$A$16), 3, 2, 1), OFFSET('4S Small Front'!$A$1, MATCH(B12,'4S Small Front'!$A$2:$A$16), 0, 2, 1)), OFFSET('4S Small Front'!$A$1, MATCH(B12,'4S Small Front'!$A$2:$A$16), 3, 1, 1)) -> 300 | E12: =$A12/119 -> 46.218487 | F12: =C12+D12 -> 660 | G12: 626.7 | H12: =($C12/1.356*$A12)/5252/0.986+($D12/1.356*$B12)/5252/0.986 -> 403.09203
A13: 6000 | B13: =A13/1.94 -> 3092.7835 | C13: =IFERROR(FORECAST(A13, OFFSET('4S Small Rear'!$A$1, MATCH(A13,'4S Small Rear'!$A$2:$A$16), 3, 2, 1), OFFSET('4S Small Rear'!$A$1, MATCH(A13,'4S Small Rear'!$A$2:$A$16), 0, 2, 1)), OFFSET('4S Small Rear'!$A$1, MATCH(A13,'4S Small Rear'!$A$2:$A$16), 3, 1, 1)) -> 360 | D13: =IFERROR(FORECAST(B13, OFFSET('4S Small Front'!$A$1, MATCH(B13,'4S Small Front'!$A$2:$A$16), 3, 2, 1), OFFSET('4S Small Front'!$A$1, MATCH(B13,'4S Small Front'!$A$2:$A$16), 0, 2, 1)), OFFSET('4S Small Front'!$A$1, MATCH(B13,'4S Small Front'!$A$2:$A$16), 3, 1, 1)) -> 300 | E13: =$A13/119 -> 50.420168 | F13: =C13+D13 -> 660 | G13: 573.6 | H13: =($C13/1.356*$A13)/5252/0.986+($D13/1.356*$B13)/5252/0.986 -> 439.73676
... A32: 16000 | B32: =A32/1.94 -> 8247.4227 | C32: =IFERROR(FORECAST(A32, OFFSET('4S Small Rear'!$A$1, MATCH(A32,'4S Small Rear'!$A$2:$A$16), 3, 2, 1), OFFSET('4S Small Rear'!$A$1, MATCH(A32,'4S Small Rear'!$A$2:$A$16), 0, 2, 1)), OFFSET('4S Small Rear'!$A$1, MATCH(A32,'4S Small Rear'!$A$2:$A$16), 3, 1, 1)) -> 151 | D32: =IFERROR(FORECAST(B32, OFFSET('4S Small Front'!$A$1, MATCH(B32,'4S Small Front'!$A$2:$A$16), 3, 2, 1), OFFSET('4S Small Front'!$A$1, MATCH(B32,'4S Small Front'!$A$2:$A$16), 0, 2, 1)), OFFSET('4S Small Front'!$A$1, MATCH(B32,'4S Small Front'!$A$2:$A$16), 3, 1, 1)) -> 183.82474 | E32: =$A32/119 -> 134.45378 | F32: =C32+D32 -> 334.82474 | G32: 215.5 | H32: =($C32/1.356*$A32)/5252/0.986+($D32/1.356*$B32)/5252/0.986 -> 559.96523
